{"text_format":"1","workbook":"xlsx","n_sheets":20,"sheets":["т.1","т.2","2.1","т.2.2","т.3","т.4","т.4.1","т.4.2","т.5","т.6","т.6.1","т.7","т.8","т.8.1","т.9","т.9.1","т.9.2","т.9.3","т.10","т.11"],"not_rendered":{"charts":0,"images":0,"macros":1,"external_links":1,"defined_names":0,"comments":0,"pivot_tables":0},"unopened":[],"bounds":{"document_bytes":16777216,"sheet_cells":100000,"rows_first":2000,"rows_last":500,"rows_between":2000,"halvings":0,"cell_chars":16384,"cell_head_chars":4096},"cells_cut":0,"cells_raw":0,"read":"whole","date_system":"1900"}

{"sheet":"т.1","index":0,"n_rows":52,"n_cols":9,"rows_kept":52,"cut":false,"hidden":false,"merged":[[1,0,1,8],[3,2,3,4],[3,5,3,8],[4,5,4,6],[4,7,4,8]]}
[null,null,null,null,null,null,null,null,"Таблица 1"]
["Количество населения и общедоступных библиотек Министерства культуры"]
[]
["№","ЦБС","население ( чел. в тыс.)",null,null,"количество библиотек"]
[null,null,"Всего","гор.","сельск.",2023,null,2024]
[null,null,null,null,null,"всего","из них в","всего","из них в"]
[null,null,null,null,null,null,"с/мест. ",null,"с/мест"]
[1,"Абыйская",{"$f":"D8+E8","v":3.7},1.8,1.9,7,5,7,5]
[2,"Аллаиховская",2.4,1.9,0.5,6,4,6,4]
[3,"Амгинская",16.7,null,16.7,16,16,16,16]
[4,"Анабарская",3.5,null,3.5,3,3,3,3]
[5,"Булунская",8.1,4.5999999999999996,3.5,8,6,8,6]
[6,"Верхневилюйская",20.7,null,20.7,23,23,23,23]
[7,"Верхнеколымская",3.7,2.4,1.3,7,5,7,5]
[8,"Верхоянская",10,4.7,5.3,17,13,17,13]
[9,"Вилюйская",25.2,13,12.2,24,20,24,20]
[10,"Горная",11.9,null,11.9,9,9,9,9]
[11,"Жиганская",4,null,4,5,5,5,5]
[12,"Кобяйская",11,3.2,7.8,17,15,17,15]
[13,"Ленская",31.8,28,3.8,21,14,21,14]
[14,"Момская",3.8,null,3.8,7,7,7,7]
[15,"Намская",25.1,null,25.1,20,20,20,20]
[16,"Нижнеколымская",4.2,2.6,1.6,6,3,6,3]
[17,"Нюрбинская",22.799999999999997,10.1,12.7,23,20,23,20]
[18,"Оймяконская",7.6,4.5,3.1,9,6,9,6]
[19,"Олекминская",20.5,8.5,12,27,25,27,25]
[20,"Оленекская",4.4000000000000004,null,4.4000000000000004,5,5,5,5]
[21,"Среднеколымская",6.7,3.1,3.6,11,9,11,9]
[22,"Сунтарская",22.2,null,22.2,22,22,22,22]
[23,"Таттинская",16.8,null,16.8,15,15,15,15]
[24,"Томпонская",10.899999999999999,6.1,4.8,13,10,13,10]
[25,"Усть-Алданская",22,null,22,28,28,28,28]
[26,"Усть-Майская",7.3,5.0999999999999996,2.2000000000000002,10,5,10,5]
[27,"Усть-Янская",6.6999999999999993,3.4,3.3,11,7,11,7]
[28,"Хангаласская",34.299999999999997,17.2,17.100000000000001,24,21,24,21]
[29,"Чурапчинская",21.8,null,21.8,19,19,19,19]
[30,"Мирнинская",71.699999999999989,69.099999999999994,2.6,11,3,11,3]
[31,"Нерюнгринская",68.400000000000006,67.2,1.2,8,2,8,2]
[32,"Эвено-Бытантайская",3,null,3,3,3,3,3]
[33,"Якутская",385,367.7,17.3,18,4,18,4]
[34,"Алданская",39,35.700000000000003,3.3,9,5,9,5]
[35,"М.-Кангаласская",32.9,5.3,27.6,31,30,31,30]
[36,"ГБ  г.Нерюнгри ",null,null,null,1,null,1]
[37,"Бердигестях ДБ",null,null,null,1,1,1,1]
[38,"Б-ка ГО \"Жатай\"",11.8,11.8,null,1,null,1]
[39,"Алданский БИЦ",null,null,null,2,1,2,1]
[40,"Томмотский БИЦ",null,null,null,3,1,3,1]
[null,"Итого по МБ",1001.6,{"$f":"SUM(D8:D47)","v":677},324.60000000000002,501,410,501,410]
[null,"НБ РС(Я)",0,null,null,1,null,1]
[null,"Филиал НБ \"ДТК\"",0,null,null,1,null,1]
[null,"ЯРСБНС",0,null,null,1,null,1]
[null,"Итого по РС(Я)",{"$f":"SUM(C48:C51)","v":1001.6},677,324.60000000000002,504,410,504,410]

{"sheet":"т.2","index":1,"n_rows":50,"n_cols":8,"rows_kept":50,"cut":false,"hidden":false,"merged":[[1,0,1,7],[2,0,2,7],[3,2,3,4],[3,5,3,7]]}
[null,null,null,null,null,null,"Таблица 2"]
["Количество пользователей и процент охвата населения "]
["библиотечным обслуживанием"]
["№","ЦБС","кол-во пользователей",null,null,"% охвата населения библ.обслуж."]
[null,null,2023,2024,"\"+  -\"",2023,2024,"\"+  -\""]
[1,"Абыйская",3286,3338,{"$f":"D6-C6","v":52},88.8,{"$f":"D6*100/т.1!C8/1000","v":90.21621621621621},{"$f":"G6-F6","v":1.4162162162162133}]
[2,"Аллаиховская",1372,1369,{"$f":"D7-C7","v":-3},57.2,{"$f":"D7*100/т.1!C9/1000","v":57.041666666666671},{"$f":"G7-F7","v":-0.15833333333333144}]
[3,"Амгинская",11658,11936,278,69.8,{"$f":"D8*100/т.1!C10/1000","v":71.473053892215574},1.6730538922155773]
[4,"Анабарская",1056,1626,570,30.2,{"$f":"D9*100/т.1!C11/1000","v":46.457142857142856},16.257142857142856]
[5,"Булунская",6997,7040,43,86.4,{"$f":"D10*100/т.1!C12/1000","v":86.913580246913583},0.51358024691357684]
[6,"Верхневилюйская",13304,13304,0,64.3,{"$f":"D11*100/т.1!C13/1000","v":64.270531400966192},-2.9468599033805276E-2]
[7,"Верхнеколымская",3347,3419,72,90.5,{"$f":"D12*100/т.1!C14/1000","v":92.405405405405403},1.9054054054054035]
[8,"Верхоянская",7060,7025,{"$f":"D13-C13","v":-35},70.599999999999994,{"$f":"D13*100/т.1!C15/1000","v":70.25},-0.34999999999999432]
[9,"Вилюйская",12706,12825,119,50.4,{"$f":"D14*100/т.1!C16/1000","v":50.892857142857146},0.49285714285714732]
[10,"Горная",6641,6998,357,68.2,71.8,3.5999999999999943]
[11,"Жиганская",3447,2827,-620,86.2,{"$f":"D16*100/т.1!C18/1000","v":70.674999999999997},-15.525000000000006]
[12,"Кобяйская",10081,9671,-410,91.6,{"$f":"D17*100/т.1!C19/1000","v":87.918181818181822},-3.6818181818181728]
[13,"Ленская",17727,16509,-1218,55.7,{"$f":"D18*100/т.1!C20/1000","v":51.915094339622641},-3.7849056603773619]
[14,"Момская",2178,2361,183,57.3,{"$f":"D19*100/т.1!C21/1000","v":62.131578947368425},4.8315789473684276]
[15,"Намская",15600,15571,-29,62.2,{"$f":"D20*100/т.1!C22/1000","v":62.035856573705175},-0.16414342629482803]
[16,"Нижнеколымская",1768,2217,449,42.1,{"$f":"D21*100/т.1!C23/1000","v":52.785714285714285},10.685714285714283]
[17,"Нюрбинская",18570,17369,-1201,81.400000000000006,{"$f":"D22*100/т.1!C24/1000","v":76.179824561403507},-5.2201754385964989]
[18,"Оймяконская",6441,6478,37,84.8,{"$f":"D23*100/т.1!C25/1000","v":85.236842105263165},0.43684210526316747]
[19,"Олекминская",15004,14881,-123,73.2,{"$f":"D24*100/т.1!C26/1000","v":72.590243902439013},-0.60975609756098947]
[20,"Оленекская",3156,3624,468,71.674418604651166,{"$f":"D25*100/т.1!C27/1000","v":82.36363636363636},10.689217758985194]
[21,"Среднеколымская",4256,5069,813,63.5,{"$f":"D26*100/т.1!C28/1000","v":75.656716417910445},12.156716417910445]
[22,"Сунтарская",17084,16467,-617,77,{"$f":"D27*100/т.1!C29/1000","v":74.175675675675677},-2.8243243243243228]
[23,"Таттинская",8379,8552,173,49.9,{"$f":"D28*100/т.1!C30/1000","v":50.904761904761898},1.0047619047618994]
[24,"Томпонская",7320,5951,-1369,67.2,{"$f":"D29*100/т.1!C31/1000","v":54.59633027522937},-12.603669724770633]
[25,"Усть-Алданская",20003,19467,-536,90.9,{"$f":"D30*100/т.1!C32/1000","v":88.486363636363635},-2.4136363636363711]
[26,"Усть-Майская",4429,4459,30,60.7,{"$f":"D31*100/т.1!C33/1000","v":61.082191780821923},0.38219178082191974]
[27,"Усть-Янская",5281,5373,92,78.8,{"$f":"D32*100/т.1!C34/1000","v":80.194029850746276},1.3940298507462785]
[28,"Хангаласская",23382,24332,950,68.2,{"$f":"D33*100/т.1!C35/1000","v":70.938775510204081},2.7387755102040785]
[29,"Чурапчинская",15335,15221,-114,70.3,{"$f":"D34*100/т.1!C36/1000","v":69.821100917431195},-0.47889908256880176]
[30,"Мирнинская",23035,23364,329,32.1,{"$f":"D35*100/т.1!C37/1000","v":32.585774058577414},0.4857740585774124]
[31,"Нерюнгринская",13162,13151,-11,32.700000000000003,32.5,-0.20000000000000284]
[32,"Эвено-Бытантай",1420,1420,{"$f":"D37-C37","v":0},47.3,{"$f":"D37*100/т.1!C39/1000","v":47.333333333333336},{"$f":"G37-F37","v":3.3333333333338544E-2}]
[33,"Якутская",70792,72046,1254,18.399999999999999,{"$f":"D38*100/т.1!C40/1000","v":18.713246753246754},0.31324675324675511]
[34,"Алданская",10044,9924,{"$f":"D39-C39","v":-120},45.7,46.3,{"$f":"G39-F39","v":0.59999999999999432}]
[35,"М.-Кангаласская",21058,21133,{"$f":"D40-C40","v":75},64,{"$f":"D40*100/т.1!C42/1000","v":64.2340425531915},{"$f":"G40-F40","v":0.23404255319150025}]
[36,"ГБ г.Нерюнгри",9375,9055,{"$f":"D41-C41","v":-320}]
[37,"Бердигестях ДБ",1548,1550,{"$f":"D42-C42","v":2}]
[38,"Б-ка ГО \"Жатай\"",2684,2640,-44,22.7,{"$f":"D43*100/т.1!C45/1000","v":22.372881355932201},-0.32711864406779867]
[39,"Алданский БИЦ",3378,3524,146]
[40,"Томмотский БИЦ",4526,4609,83]
[null,"Итого по МБ",{"$f":"SUM(C6:C45)","v":427890},{"$f":"SUM(D6:D45)","v":427695},{"$f":"SUM(E6:E45)","v":-195},42.9,{"$f":"D46*100/т.1!C48/1000","v":42.701178115015971},{"$f":"G46-F46","v":-0.19882188498402797}]
[null,"НБ РС(Я)",35869,36322,{"$f":"D47-C47","v":453}]
[null,"Филиал НБ \"ДТК\"",11760,12665,{"$f":"D48-C48","v":905}]
[null,"ЯРСБНС",2393,2506,{"$f":"D49-C49","v":113}]
[null,"Итого по РС(Я)",{"$f":"SUM(C46:C49)","v":477912},{"$f":"SUM(D46:D49)","v":479188},{"$f":"SUM(E46:E49)","v":1276},47.9,{"$f":"D50*100/т.1!C52/1000","v":47.842252396166138},{"$f":"G50-F50","v":-5.7747603833860239E-2}]

{"sheet":"2.1","index":2,"n_rows":50,"n_cols":9,"rows_kept":50,"cut":false,"hidden":false,"merged":[[1,0,1,8],[3,3,3,5],[3,6,4,6],[3,7,4,7],[3,0,4,0],[3,1,4,1]]}
[null,null,null,null,null,null,null,null,"Таблица 2.1"]
["Количество пользователей "]
[]
["№","ЦБС","всего","из них пользователей, обслуженных в стационарных условиях ",null,null,"из них во внестац. условиях","из них удал. польз.","читаемость"]
[null,null,null,"всего","до 14 лет","от 15-30"]
[1,"Абыйская",3338,2571,921,521,767,null,{"$f":"т.6!D5/т.2!D6","v":28.976333133612943}]
[2,"Аллаиховская",1369,1225,484,205,144,null,{"$f":"т.6!D6/т.2!D7","v":34.837837837837839}]
[3,"Амгинская",11936,9040,2410,1866,2135,761,{"$f":"т.6!D7/т.2!D8","v":20.797503351206434}]
[4,"Анабарская",1626,1449,421,538,177,null,{"$f":"т.6!D8/т.2!D9","v":18.986469864698648}]
[5,"Булунская",7040,6076,1344,1553,964,null,{"$f":"т.6!D9/т.2!D10","v":22.79971590909091}]
[6,"Верхневилюйская",13304,10710,3791,2204,2569,25,{"$f":"т.6!D10/т.2!D11","v":23.707681900180397}]
[7,"Верхнеколымская",3419,2019,785,310,1385,15,{"$f":"т.6!D11/т.2!D12","v":25.257092717168764}]
[8,"Верхоянская",7025,6158,1759,1390,867,null,{"$f":"т.6!D12/т.2!D13","v":22.326263345195731}]
[9,"Вилюйская",12825,12538,4331,3390,287,null,{"$f":"т.6!D13/т.2!D14","v":27.130058479532163}]
[10,"Горная",6998,5409,1369,1256,880,709,{"$f":"т.6!D14/т.2!D15","v":24.291511860531582}]
[11,"Жиганская",2827,2252,715,487,474,101,{"$f":"т.6!D15/т.2!D16","v":17.562433675274143}]
[12,"Кобяйская",9671,7677,2572,1827,1931,63,{"$f":"т.6!D16/т.2!D17","v":18.203598386929997}]
[13,"Ленская",16509,11310,4815,1810,5199,null,{"$f":"т.6!D17/т.2!D18","v":21.410139923677995}]
[14,"Момская",2361,2088,460,462,273,null,{"$f":"т.6!D18/т.2!D19","v":18.602287166454893}]
[15,"Намская",15571,13443,4795,3231,2086,42,{"$f":"т.6!D19/т.2!D20","v":22.433177059919082}]
[16,"Нижнеколымская",2217,1693,715,379,524,null,{"$f":"т.6!D20/т.2!D21","v":22.445647271087054}]
[17,"Нюрбинская",17369,12332,3118,3354,5037,null,{"$f":"т.6!D21/т.2!D22","v":19.586159249237145}]
[18,"Оймяконская",6478,5201,1287,989,1277,null,{"$f":"т.6!D22/т.2!D23","v":17.014819388700214}]
[19,"Олекминская",14881,13480,4380,3649,1401,null,{"$f":"т.6!D23/т.2!D24","v":20.160069887776359}]
[20,"Оленекская",3624,3338,1216,352,262,24,{"$f":"т.6!D24/т.2!D25","v":12.368101545253863}]
[21,"Среднеколымская",5069,3841,949,843,1228,null,{"$f":"т.6!D25/т.2!D26","v":11.101597948313277}]
[22,"Сунтарская",16467,13331,4964,3292,3124,12,{"$f":"т.6!D26/т.2!D27","v":18.425639157102083}]
[23,"Таттинская",8552,5537,2140,827,3000,15,{"$f":"т.6!D27/т.2!D28","v":20.208723105706266}]
[24,"Томпонская",5951,5130,2137,1087,810,11,{"$f":"т.6!D28/т.2!D29","v":23.357586960174761}]
[25,"Усть-Алданская",19467,11594,3780,2664,7826,47,{"$f":"т.6!D29/т.2!D30","v":20.941131145014641}]
[26,"Усть-Майская",4459,3806,1383,835,653,null,{"$f":"т.6!D30/т.2!D31","v":33.099798161022647}]
[27,"Усть-Янская",5373,4903,1382,1447,470,null,{"$f":"т.6!D31/т.2!D32","v":17.083938209566352}]
[28,"Хангаласская",24332,11576,4236,2266,3035,9721,{"$f":"т.6!D32/т.2!D33","v":15.764384349827388}]
[29,"Чурапчинская",15221,11047,2900,2584,4174,null,{"$f":"т.6!D33/т.2!D34","v":21.834636357663754}]
[30,"Мирнинская",23364,22011,7771,4647,1275,78,{"$f":"т.6!D34/т.2!D35","v":23.048365005992125}]
[31,"Нерюнгринская",13151,11473,3051,2900,928,750,{"$f":"т.6!D35/т.2!D36","v":23.007832104022508}]
[32,"Эвено-Бытантайская",1420,1024,399,193,396,null,{"$f":"т.6!D36/т.2!D37","v":27.171830985915491}]
[33,"Якутская",72046,65467,20920,20307,6579,null,{"$f":"т.6!D37/т.2!D38","v":20.579116120256504}]
[34,"Алданская",9924,8254,1379,1693,1403,267,{"$f":"т.6!D38/т.2!D39","v":18.11023780733575}]
[35,"М.-Кангаласская",21133,15775,5055,2660,5258,100,{"$f":"т.6!D39/т.2!D40","v":18.179576964936356}]
[36,"ГБ г.Нерюнгри ",9055,8259,2471,2453,349,447,{"$f":"т.6!D40/т.2!D41","v":20.403202650469353}]
[37," Бердигестях ДБ",1550,1170,1058,61,380,null,{"$f":"т.6!D41/т.2!D42","v":23.888387096774192}]
[38,"Б-ка ГО \"Жатай\"",2640,2620,1327,300,20,null,{"$f":"т.6!D42/т.2!D43","v":17.972348484848485}]
[39,"Алданский БИЦ",3524,2950,1921,549,574,null,{"$f":"т.6!D43/т.2!D44","v":20.08399545970488}]
[40,"Томмотский БИЦ",4609,4279,1894,562,330,null,{"$f":"т.6!D44/т.2!D45","v":24.380559774354523}]
[null,"Итого по МБ",{"$f":"SUM(C6:C45)","v":427695},344056,112805,81943,70451,13188,{"$f":"т.6!D45/т.2!D46","v":20.788255649469832}]
[null,"НБ РС(Я)",36322,12507,null,9093,4040,19775,{"$f":"т.6!D46/т.2!D47","v":45.06329497274379}]
[null,"Филиал НБ \"ДТК\"",12665,11845,8630,2395,820,null,{"$f":"т.6!D47/т.2!D48","v":10.821792341097513}]
[null,"ЯРСБНС",2506,557,91,83,1590,359,{"$f":"т.6!D48/т.2!D49","v":42.985634477254592}]
[null,"Итого по РС(Я)",{"$f":"SUM(C46:C49)","v":479188},368965,121526,93514,76901,33322,{"$f":"т.6!D49/т.2!D50","v":22.480951108959324}]

{"sheet":"т.2.2","index":3,"n_rows":45,"n_cols":8,"rows_kept":45,"cut":false,"hidden":false,"merged":[[2,6,5,6],[2,7,5,7],[2,0,5,0],[2,1,5,1],[2,2,5,2],[2,3,2,5],[3,3,5,3],[3,4,5,4],[3,5,5,5]]}
[null,null,null,null,null,null,"Таблица 2.2 "]
[null,"Количество пользователей в сельской местности"]
["№","ЦБС","всего из общего числа в с/местн.","из них пользователей, обслуженных в стенах библиотеки ",null,null,"из них во внестац","из них удал. польз"]
[null,null,null,"всего","до 14 лет","от 15-30"]
[]
[]
[1,"Абыйская",1460,1223,429,218,237]
[2,"Аллаиховская",294,274,98,38,20]
[3,"Амгинская",11936,9040,2410,1866,2135,761]
[4,"Анабарская",1626,1449,421,538,177]
[5,"Булунская",2228,1989,652,567,239]
[6,"Верхневилюйская",13304,10710,3791,2204,2569,25]
[7,"Верхнеколымская",1053,676,225,100,377]
[8,"Верхоянская",3281,2796,820,508,485]
[9,"Вилюйская",6352,6191,1682,1466,161]
[10,"Горная",6998,5409,1369,1256,880,709]
[11,"Жиганская",2827,2252,715,487,474,101]
[12,"Кобяйская",4543,3460,1428,508,1083]
[13,"Ленская",2339,2100,751,198,239]
[14,"Момская",2361,2088,460,462,273]
[15,"Намская",15571,13443,4795,3231,2086,42]
[16,"Нижнеколымская",487,475,161,107,12]
[17,"Нюрбинская",9348,6362,2417,1186,2986]
[18,"Оймяконская",2105,1751,517,382,354]
[19,"Олекминская",7833,6626,1820,1282,1207]
[20,"Оленекская",3624,3338,1216,352,262,24]
[21,"Среднеколымская",2809,2226,654,441,583]
[22,"Сунтарская",16467,13331,4964,3292,3124,12]
[23,"Таттинская",8552,5537,2140,827,3000,15]
[24,"Томпонская",2748,2373,1034,535,375]
[25,"Усть-Алданская",19467,11594,3780,2664,7826,47]
[26,"Усть-Майская",1157,1148,428,204,9]
[27,"Усть-Янская",1941,1693,555,623,248]
[28,"Хангаласская",8733,6223,1707,1203,2510]
[29,"Чурапчинская",15221,11047,2900,2584,4174]
[30,"Мирнинская",976,884,329,263,92]
[31,"Нерюнгринская",919,852,166,175,67]
[32,"Эвено-Бытантайская",1420,1024,399,193,396]
[33,"Якутская",6704,6502,2317,1329,202]
[34,"Алданская",848,724,423,179,124]
[35,"М.-Кангаласская",20121,15142,4654,2614,4879,100]
[36,"Бердигестях ДБ",1550,1170,1058,61,380]
[37,"Алданский БИЦ",58,58,24,10]
[38,"Томмотский БИЦ",173,149,26,40,24]
[null,"Итого по РС(Я)",{"$f":"SUM(C7:C44)","v":209434},163329,53735,34193,44269,1836]

{"sheet":"т.3","index":4,"n_rows":49,"n_cols":8,"rows_kept":49,"cut":false,"hidden":false,"merged":[[1,0,1,7],[2,2,2,4],[2,5,2,7]]}
[null,null,null,null,null,null,"Таблица 3"]
["Число посещений. Посещаемость"]
["№","ЦБС","число посещений",null,null,"посещаемость"]
[null,null,2023,2024,"\"+  -\"",2023,2024,"\"+  -\""]
[1,"Абыйская",30859,34054,{"$f":"D5-C5","v":3195},9.4,{"$f":"т.3!D5/т.2!D6","v":10.201917315757939},{"$f":"G5 - F5","v":0.80191731575793845}]
[2,"Аллаиховская",17204,15420,{"$f":"D6-C6","v":-1784},12.5,{"$f":"т.3!D6/т.2!D7","v":11.263696128560994},-1.2363038714390058]
[3,"Амгинская",92494,95405,2911,7.9,{"$f":"т.3!D7/т.2!D8","v":7.9930462466487935},9.3046246648793129E-2]
[4,"Анабарская",10323,17117,6794,9.8000000000000007,{"$f":"т.3!D8/т.2!D9","v":10.527060270602705},0.72706027060270451]
[5,"Булунская",89815,93201,3386,12.8,{"$f":"т.3!D9/т.2!D10","v":13.238778409090909},0.43877840909090793]
[6,"Верхневилюйская",138534,139038,504,10.4,{"$f":"т.3!D10/т.2!D11","v":10.450841852074564},5.0841852074563931E-2]
[7,"Верхнеколымская",37621,37263,-358,11.2,{"$f":"т.3!D11/т.2!D12","v":10.89880081895291},-0.30119918104708887]
[8,"Верхоянская",77043,81826,4783,10.9,{"$f":"т.3!D12/т.2!D13","v":11.647829181494663},0.74782918149466227]
[9,"Вилюйская",142739,155407,12668,11.2,{"$f":"т.3!D13/т.2!D14","v":12.117504873294347},0.91750487329434804]
[10,"Горная",73524,73233,-291,11.1,{"$f":"т.3!D14/т.2!D15","v":10.464847099171191},-0.6351529008288086]
[11,"Жиганская",18054,26129,8075,5.2,{"$f":"т.3!D15/т.2!D16","v":9.2426600636717371},4.0426600636717369]
[12,"Кобяйская",114940,123235,8295,11.4,{"$f":"т.3!D16/т.2!D17","v":12.742736014889877},1.3427360148898764]
[13,"Ленская",173365,165313,-8052,9.8000000000000007,{"$f":"т.3!D17/т.2!D18","v":10.01350778363317},0.21350778363316891]
[14,"Момская",19805,21725,1920,9.1,{"$f":"т.3!D18/т.2!D19","v":9.2016094875052943},0.10160948750529464]
[15,"Намская",144962,139141,-5821,9.3000000000000007,{"$f":"т.3!D19/т.2!D20","v":8.9359064928392531},-0.36409350716074762]
[16,"Нижнеколымская",17916,29155,11239,10.1,{"$f":"т.3!D20/т.2!D21","v":13.15065403698692},3.0506540369869199]
[17,"Нюрбинская",154957,150825,-4132,8.3000000000000007,{"$f":"т.3!D21/т.2!D22","v":8.6835741838908405},0.38357418389083975]
[18,"Оймяконская",68228,70606,2378,10.6,{"$f":"т.3!D22/т.2!D23","v":10.899351651744366},0.29935165174436662]
[19,"Олекминская",177362,182264,4902,11.8,{"$f":"т.3!D23/т.2!D24","v":12.24810160607486},0.44810160607485905]
[20,"Оленекская",23069,23073,4,7.3,{"$f":"т.3!D24/т.2!D25","v":6.366721854304636},-0.93327814569536383]
[21,"Среднеколымская",35248,37866,2618,8.3000000000000007,{"$f":"т.3!D25/т.2!D26","v":7.4701124482146382},-0.82988755178536255]
[22,"Сунтарская",181302,178982,-2320,10.6,{"$f":"т.3!D26/т.2!D27","v":10.869132203801543},0.26913220380154357]
[23,"Таттинская",59820,67852,8032,7.1,{"$f":"т.3!D27/т.2!D28","v":7.9340505144995319},0.83405051449953227]
[24,"Томпонская",84011,75535,-8476,11.5,{"$f":"т.3!D28/т.2!D29","v":12.692824735338599},1.1928247353385988]
[25,"Усть-Алданская",227316,249174,21858,11.4,{"$f":"т.3!D29/т.2!D30","v":12.799815071659731},1.3998150716597308]
[26,"Усть-Майская",72966,69594,-3372,16.5,{"$f":"т.3!D30/т.2!D31","v":15.607535321821036},-0.89246467817896402]
[27,"Усть-Янская",31260,42805,11545,5.9,{"$f":"т.3!D31/т.2!D32","v":7.9666852782430668},2.0666852782430665]
[28,"Хангаласская",212661,204366,-8295,9.1,{"$f":"т.3!D32/т.2!D33","v":8.3990629623541011},-0.70093703764589854]
[29,"Чурапчинская",150499,162527,12028,9.8000000000000007,{"$f":"т.3!D33/т.2!D34","v":10.677813547073123},0.87781354707312254]
[30,"Мирнинская",199240,196444,-2796,8.6,{"$f":"т.3!D34/т.2!D35","v":8.4079780859441868},-0.19202191405581281]
[31,"Нерюнгринская",102332,110017,7685,7.8,{"$f":"т.3!D35/т.2!D36","v":8.3656756140217468},0.56567561402174693]
[32,"Эвено-Бытантай",21632,25950,4318,15.2,{"$f":"т.3!D36/т.2!D37","v":18.274647887323944},3.0746478873239447]
[33,"Якутская",432033,490619,58586,6.1,{"$f":"т.3!D37/т.2!D38","v":6.8098020708991474},0.70980207089914771]
[34,"Алданская",117919,123800,{"$f":"D38-C38","v":5881},11.7,{"$f":"т.3!D38/т.2!D39","v":12.474808544941556},{"$f":"G38 - F38","v":0.77480854494155693}]
[35,"М.-Кангаласская",162567,165647,{"$f":"D39-C39","v":3080},7.7,{"$f":"т.3!D39/т.2!D40","v":7.8383097525197556},{"$f":"G39 - F39","v":0.13830975251975541}]
[36,"ГБ г.Нерюнгри ",119048,113859,-5189,12.7,{"$f":"т.3!D40/т.2!D41","v":12.574157923799007},-0.12584207620099264]
[37,"Бердигестях ДБ",21180,24396,3216,13.7,{"$f":"т.3!D41/т.2!D42","v":15.739354838709678},2.0393548387096789]
[38,"Б-ка ГО \"п. Жатай\"",25637,27116,1479,9.6,{"$f":"т.3!D42/т.2!D43","v":10.271212121212121},0.67121212121212182]
[39,"Алданский БИЦ",38605,40317,{"$f":"D43-C43","v":1712},11.4,{"$f":"т.3!D43/т.2!D44","v":11.440692395005675},{"$f":"G43 - F43","v":4.0692395005674342E-2}]
[40,"Томмотский БИЦ",61445,65744,{"$f":"D44-C44","v":4299},13.6,{"$f":"т.3!D44/т.2!D45","v":14.264265567368193},{"$f":"G44 - F44","v":0.66426556736819364}]
[null,"Итого по МБ",{"$f":"SUM(C5:C44)","v":3979535},{"$f":"SUM(D5:D44)","v":4146040},166505,9.3000000000000007,{"$f":"т.3!D45/т.2!D46","v":9.6939173944048918},0.39391739440489104]
[null,"НБ РС(Я)",359792,489477,129685,10,{"$f":"т.3!D46/т.2!D47","v":13.476047574472771},3.476047574472771]
[null,"Филиал НБ \"ДТК\"",80326,94745,14419,6.8,{"$f":"т.3!D47/т.2!D48","v":7.4808527437820764},0.68085274378207661]
[null,"ЯРСБНС",12671,15386,2715,5.3,{"$f":"т.3!D48/т.2!D49","v":6.1396648044692741},0.83966480446927427]
[null,"Итого по РС(Я)",{"$f":"SUM(C45:C48)","v":4432324},{"$f":"SUM(D45:D48)","v":4745648},{"$f":"SUM(E45:E48)","v":313324},9.3000000000000007,{"$f":"т.3!D49/т.2!D50","v":9.9035201215389375},{"$f":"G49-F49","v":0.60352012153893675}]

{"sheet":"т.4","index":5,"n_rows":49,"n_cols":10,"rows_kept":49,"cut":false,"hidden":false,"merged":[[1,0,1,9],[2,6,2,8]]}
[null,null,null,null,null,null,null,null,null,"Таблица 4"]
["Движение библиотечного фонда ."]
[null,null,"сост. на ","поступило",null,null,"выбыло",null,null,"сост. на"]
["№","ЦБС","2024-01-01","всего (экз)","из них вновь приобрет. (экз).","из них фонд реорг.б-к","(экз.)","из них без учета фонда р/б","из них фонд реорг.б-к","2025-01-01"]
[1,"Абыйская",74584,2629,2629,null,2046,2046,null,{"$f":"C5+D5-G5","v":75167}]
[2,"Аллаиховская",78911,721,721,null,null,null,null,79632]
[3,"Амгинская",187564,9235,9235,null,5813,5813,null,190986]
[4,"Анабарская",26584,1677,1677,null,1331,1331,null,26930]
[5,"Булунская",148082,1330,1330,null,456,456,null,148956]
[6,"Верхневилюйская",227655,5918,5918,null,9716,1581,8135,223857]
[7,"Верхнеколымская",108250,3257,3257,null,3206,3206,null,108301]
[8,"Верхоянская",219431,5027,5027,null,7213,7213,null,217245]
[9,"Вилюйская",271625,4486,4486,null,5170,5170,null,270941]
[10,"Горная",102615,2654,2654,null,2091,2091,null,103178]
[11,"Жиганская",59772,2260,2260,null,409,409,null,61623]
[12,"Кобяйская",201285,3607,3607,null,996,996,null,203896]
[13,"Ленская",214845,8949,8949,null,5710,5710,null,218084]
[14,"Момская",90507,2429,2429,null,3325,3325,null,89611]
[15,"Намская",195788,11991,11991,null,7717,7717,null,200062]
[16,"Нижнеколымская",99433,2225,2225,null,1164,1164,null,100494]
[17,"Нюрбинская",338964,2975,2975,null,2126,2126,null,339813]
[18,"Оймяконская",113403,2011,2001,null,296,296,null,115118]
[19,"Олекминская",233168,5538,5101,null,5299,5299,null,233407]
[20,"Оленекская",53353,1200,1200,null,3266,3266,null,51287]
[21,"Среднеколымская",125084,6617,6617,null,null,null,null,131701]
[22,"Сунтарская",234807,13717,13717,null,9881,9881,null,238643]
[23,"Таттинская",212228,7658,7658,null,2291,2291,null,217595]
[24,"Томпонская",178687,2520,2520,null,1014,1014,null,180193]
[25,"Усть-Алданская",405489,32358,12022,20336,27802,7466,20336,410045]
[26,"Усть-Майская",127496,5524,5524,null,4564,4564,null,128456]
[27,"Усть-Янская",174635,1834,1834,null,null,null,null,176469]
[28,"Хангаласская",322738,12061,12061,null,6026,6026,null,328773]
[29,"Чурапчинская",274159,5603,5603,null,4985,4985,null,274777]
[30,"Мирнинская",224353,8156,8156,null,9818,9818,null,222691]
[31,"Нерюнгринская",146192,5687,5687,null,4180,4180,null,147699]
[32,"Эвено-Бытантайская",42786,717,717,null,894,894,null,42609]
[33,"Якутская",464919,29248,26460,null,20829,20829,null,473338]
[34,"Алданская",129862,8366,8366,null,5574,5574,null,132654]
[35,"Мегино-Кангаласская",455454,5349,5349,null,3154,3154,null,457649]
[36,"ГБ г.Нерюнгри ",107208,3326,3326,null,3010,3010,null,107524]
[37,"Бердигестях ДБ",17525,364,364,null,1114,1114,null,16775]
[38,"Б-ка ГО \"Жатай\"",21003,255,255,null,30,30,null,21228]
[39,"Алданский БИЦ",37041,1904,1904,null,1851,1851,null,37094]
[40,"Томмотский БИЦ",43114,3088,3088,null,8552,2856,5696,37650]
[null,"Итого по МБ",{"$f":"SUM(C5:C44)","v":6790599},234471,210900,20336,182919,148752,34167,6842151]
[null,"НБ РС(Я)",1729529,19197,19197,null,6129,6129,null,1742597]
[null,"Филиал НБ \"ДТК\"",177249,2596,2596,null,997,997,null,178848]
[null,"ЯРСБНС",154071,4010,4010,null,2000,2000,null,156081]
[null,"Итого по РС(Я)",{"$f":"SUM(C45:C48)","v":8851448},260274,236703,20336,192045,157878,34167,8919677]

{"sheet":"т.4.1","index":6,"n_rows":49,"n_cols":7,"rows_kept":49,"cut":false,"hidden":false,"merged":[[1,0,1,6]]}
[null,null,null,null,null,null,"Таблица 4.1 "]
["Библиотечный фонд "]
[]
["№","ЦБС",2023,2024,"\"+  -\"","в городе","в сельск.местн."]
[1,"Абыйская",74584,75167,{"$f":"D5-C5","v":583},{"$f":" D5-G5","v":32009},43158]
[2,"Аллаиховская",78911,79632,{"$f":"D6-C6","v":721},{"$f":" D6-G6","v":48290},31342]
[3,"Амгинская",187564,190986,3422,{"$f":" D7-G7","v":0},190986]
[4,"Анабарская",26584,26930,346,{"$f":" D8-G8","v":0},26930]
[5,"Булунская",148082,148956,874,69062,79894]
[6,"Верхневилюйская",227655,223857,-3798,0,223857]
[7,"Верхнеколымская",108250,108301,51,61406,46895]
[8,"Верхоянская",219431,217245,-2186,90208,127037]
[9,"Вилюйская",271625,270941,-684,89186,181755]
[10,"Горная",102615,103178,563,0,103178]
[11,"Жиганская",59772,61623,1851,0,61623]
[12,"Кобяйская",201285,203896,2611,50957,152939]
[13,"Ленская",214845,218084,3239,124058,94026]
[14,"Момская",90507,89611,-896,0,89611]
[15,"Намская",195788,200062,4274,0,200062]
[16,"Нижнеколымская",99433,100494,1061,67919,32575]
[17,"Нюрбинская",338964,339813,849,88301,251512]
[18,"Оймяконская",113403,115118,1715,42955,72163]
[19,"Олекминская",233168,233407,239,41825,191582]
[20,"Оленекская",53353,51287,-2066,0,51287]
[21,"Среднеколымская",125084,131701,6617,51610,80091]
[22,"Сунтарская",234807,238643,3836,0,238643]
[23,"Таттинская",212228,217595,5367,0,217595]
[24,"Томпонская",178687,180193,1506,76547,103646]
[25,"Усть-Алданская",405489,410045,4556,0,410045]
[26,"Усть-Майская",127496,128456,960,82702,45754]
[27,"Усть-Янская",174635,176469,1834,86823,89646]
[28,"Хангаласская",322738,328773,6035,114670,214103]
[29,"Чурапчинская",274159,274777,618,0,274777]
[30,"Мирнинская",224353,222691,-1662,186268,36423]
[31,"Нерюнгринская",146192,147699,1507,123375,24324]
[32,"Эвено-Бытантайская",42786,42609,-177,0,42609]
[33,"Якутская",464919,473338,{"$f":"D37-C37","v":8419},{"$f":" D37-G37","v":408308},65030]
[34,"Алданская",129862,132654,{"$f":"D38-C38","v":2792},89727,42927]
[35,"Мегино-Кангаласская",455454,457649,{"$f":"D39-C39","v":2195},13187,444462]
[36,"ГБ г.Нерюнгри ",107208,107524,316,107524,0]
[37,"Бердигестях ДБ",17525,16775,-750,0,16775]
[38,"Б-ка ГО \"п. Жатай\"",21003,21228,{"$f":"D42-C42","v":225},21228,0]
[39,"Алданский БИЦ",37041,37094,{"$f":"D43-C43","v":53},{"$f":" D43-G43","v":29519},7575]
[40,"Томмотский БИЦ",43114,37650,-5464,37650]
[null,"Итого по МБ",{"$f":"SUM(C5:C44)","v":6790599},{"$f":"SUM(D5:D44)","v":6842151},51552,{"$f":"SUM(F5:F44)","v":2235314},{"$f":"SUM(G5:G44)","v":4606837}]
[null,"НБ РС(Я)",1729529,1742597,13068,1742597,0]
[null,"Филиал НБ \"ДТК\"",177249,178848,1599,178848,0]
[null,"ЯРСБНС",154071,156081,2010,156081,0]
[null,"Итого по РС(Я)",{"$f":"SUM(C45:C48)","v":8851448},{"$f":"SUM(D45:D48)","v":8919677},68229,{"$f":"SUM(F45:F48)","v":4312840},{"$f":"SUM(G45:G48)","v":4606837}]

{"sheet":"т.4.2","index":7,"n_rows":50,"n_cols":12,"rows_kept":50,"cut":false,"hidden":false,"merged":[[1,0,1,10],[2,8,3,8],[2,4,2,7]]}
[null,null,null,null,null,null,null,null,null,"Таблица 4.2"]
["Новые поступления в библиотечный фонд (экз.)"]
[null,null,null,null,"в том числе",null,null,null,"спец.","на яз.","на"]
["№","ЦБС",2023,2024,"печ.изд.","из них","эл.док.","док. на",null,"нар.РФ","иностр.","\"+  -\""]
[null,null,null,null,"неопуб.","книг","съемн","др.вид.","док.","кр.рус.яз.","яз."]
[1,"Абыйская",1972,2629,2618,1482,11,null,null,1013,null,{"$f":"D6-C6","v":657}]
[2,"Аллаиховская",562,721,720,535,null,1,null,188,null,159]
[3,"Амгинская",6741,9235,9194,4722,41,null,2,4168,1,2494]
[4,"Анабарская",871,1677,1677,1391,null,null,18,193,null,806]
[5,"Булунская",1052,1330,1327,952,3,null,3,352,null,278]
[6,"Верхневилюйская",5617,5918,5918,4439,null,null,null,3832,null,301]
[7,"Верхнеколымская",3339,3257,3257,987,null,null,null,121,null,-82]
[8,"Верхоянская",8774,5027,5018,2295,null,9,null,2606,null,-3747]
[9,"Вилюйская",2880,4486,4449,3761,37,null,2,2405,null,1606]
[10,"Горная",2400,2654,2654,1596,null,null,null,1499,null,254]
[11,"Жиганская",2327,2260,2259,1337,1,null,2,12,null,-67]
[12,"Кобяйская",1977,3607,3607,1574,null,null,null,1677,null,1630]
[13,"Ленская",124,8949,8949,5097,null,null,null,1055,null,8825]
[14,"Момская",2964,2429,2416,1587,null,13,null,2416,null,-535]
[15,"Намская",8144,11991,11933,8044,58,null,null,4964,null,3847]
[16,"Нижнеколымская",1663,2225,2223,564,2,null,null,324,null,562]
[17,"Нюрбинская",5734,2975,2975,2040,null,null,null,1812,null,-2759]
[18,"Оймяконская",1309,2001,1996,1697,5,null,4,1142,null,692]
[19,"Олекминская",5069,5101,5101,2254,null,null,2,791,null,32]
[20,"Оленекская",1834,1200,1200,1200,null,null,null,216,null,-634]
[21,"Среднеколымская",3502,6617,6617,2112,null,null,null,2641,null,3115]
[22,"Сунтарская",5142,13717,13716,4897,1,null,43,6409,null,8575]
[23,"Таттинская",4804,7658,7616,4382,42,null,null,3061,null,2854]
[24,"Томпонская",2818,2520,2520,1412,null,null,null,327,null,-298]
[25,"Усть-Алданская",12094,12022,12015,3741,7,null,null,3839,14,-72]
[26,"Усть-Майская",4982,5524,5524,1700,null,null,null,525,null,542]
[27,"Усть-Янская",2564,1834,1834,1009,null,null,null,136,null,-730]
[28,"Хангаласская",10013,12061,12061,7654,null,null,null,3911,null,2048]
[29,"Чурапчинская",4572,5603,5561,3171,42,null,null,3457,null,1031]
[30,"Мирнинская",8345,8156,8151,4808,5,null,7,944,null,-189]
[31,"Нерюнгринская",4802,5687,5687,3786,null,null,29,297,null,885]
[32,"Эвено-Бытантайская",764,717,717,511,null,null,null,353,null,-47]
[33,"Якутская",14674,26460,26457,14569,3,null,null,2420,2,{"$f":"D38-C38","v":11786}]
[34,"Алданская",9995,8366,8363,6284,3,null,2,765,30,{"$f":"D39-C39","v":-1629}]
[35,"Мег.-Кангаласская",4887,5349,5291,4380,58,null,null,3241,1,{"$f":"D40-C40","v":462}]
[36,"ГБ г.Нерюнгри ",2233,3326,3326,1868,null,null,23,73,null,1093]
[37,"Бердигестях ДБ",259,364,355,242,9,null,null,157,null,105]
[38,"Б-ка ГО \"Жатай\"",null,255,255,255,null,null,null,56,null,{"$f":"D43-C43","v":255}]
[39,"Алданский БИЦ",2783,1904,1904,1455,null,null,null,136,9,-879]
[40,"Томмотский БИЦ",3890,3088,3083,1713,null,5,null,155,7,-802]
[null,"Итого по МБ",{"$f":"SUM(C6:C45)","v":168476},{"$f":"SUM(D6:D45)","v":210900},210544,117503,328,28,137,63689,64,42424]
[null,"НБ РС(Я)",29936,19197,19138,13943,48,11,24,6896,199,-10739]
[null,"Филиал НБ \"ДТК\"",2308,2596,2596,1953,null,null,127,316,null,288]
[null,"ЯРСБНС",3938,4010,1441,830,1394,1175,2940,556,null,72]
[null,"ВСЕГО ",{"$f":"SUM(C46:C49)","v":204658},{"$f":"SUM(D46:D49)","v":236703},233719,{"$f":"SUM(F46:F49)","v":134229},1770,{"$f":"SUM(H46:H49)","v":1214},{"$f":"SUM(I46:I49)","v":3228},71457,{"$f":"SUM(K46:K49)","v":263},32045]

{"sheet":"т.5","index":8,"n_rows":49,"n_cols":6,"rows_kept":49,"cut":false,"hidden":false,"merged":[[1,0,1,5]]}
[null,null,null,null,null,"Таблица 5"]
["Относительные показатели библиотек республики"]
[]
["№","ЦБС","документообесп.\n жителей","документообесп.\n польз.","обращаемость\nбибл.фонда","обновляемость\nбибл.фонда"]
[1,"Абыйская",{"$f":"(т.4!J5/т.1!C8)/1000","v":20.315405405405404},{"$f":"'т.4.1'!D5/т.2!D6","v":22.518573996405031},{"$f":"т.6!D5/'т.4.1'!D5","v":1.2867747814865567},{"$f":"'[1]т.4.2'!D6/'т.4.1'!D5*100","v":2.3906767597482936}]
[2,"Аллаиховская",{"$f":"(т.4!J6/т.1!C9)/1000","v":33.18},{"$f":"'т.4.1'!D6/т.2!D7","v":58.16800584368152},{"$f":"т.6!D6/'т.4.1'!D6","v":0.5989175205947358},{"$f":"'т.4.2'!D7/'т.4.1'!D6*100","v":0.90541490857946549}]
[3,"Амгинская",{"$f":"(т.4!J7/т.1!C10)/1000","v":11.436287425149702},{"$f":"'т.4.1'!D7/т.2!D8","v":16.000837801608579},{"$f":"т.6!D7/'т.4.1'!D7","v":1.2997758998041742},{"$f":"'т.4.2'!D8/'т.4.1'!D7*100","v":4.83543296367273}]
[4,"Анабарская",{"$f":"(т.4!J8/т.1!C11)/1000","v":7.6942857142857148},{"$f":"'т.4.1'!D8/т.2!D9","v":16.562115621156213},{"$f":"т.6!D8/'т.4.1'!D8","v":1.1463795024136652},{"$f":"'т.4.2'!D9/'т.4.1'!D8*100","v":6.2272558484961005}]
[5,"Булунская",{"$f":"(т.4!J9/т.1!C12)/1000","v":18.389629629629631},{"$f":"'т.4.1'!D9/т.2!D10","v":21.158522727272729},{"$f":"т.6!D9/'т.4.1'!D9","v":1.0775665297134724},{"$f":"'т.4.2'!D10/'т.4.1'!D9*100","v":0.89288111925669333}]
[6,"Верхневилюйская",{"$f":"(т.4!J10/т.1!C13)/1000","v":10.814347826086957},{"$f":"'т.4.1'!D10/т.2!D11","v":16.826292844257367},{"$f":"т.6!D10/'т.4.1'!D10","v":1.4089664383959402},{"$f":"'т.4.2'!D11/'т.4.1'!D10*100","v":2.6436519742514193}]
[7,"Верхнеколымская",{"$f":"(т.4!J11/т.1!C14)/1000","v":29.270540540540541},{"$f":"'т.4.1'!D11/т.2!D12","v":31.676221117285756},{"$f":"т.6!D11/'т.4.1'!D11","v":0.79735182500623258},{"$f":"'т.4.2'!D12/'т.4.1'!D11*100","v":3.0073591194910478}]
[8,"Верхоянская",{"$f":"(т.4!J12/т.1!C15)/1000","v":21.724499999999999},{"$f":"'т.4.1'!D12/т.2!D13","v":30.924555160142347},{"$f":"т.6!D12/'т.4.1'!D12","v":0.72195907845980345},{"$f":"'т.4.2'!D13/'т.4.1'!D12*100","v":2.3139773067274274}]
[9,"Вилюйская",{"$f":"(т.4!J13/т.1!C16)/1000","v":10.751626984126984},{"$f":"'т.4.1'!D13/т.2!D14","v":21.126003898635478},{"$f":"т.6!D13/'т.4.1'!D13","v":1.2842020956592026},{"$f":"'т.4.2'!D14/'т.4.1'!D13*100","v":1.6557110219568096}]
[10,"Горная",10,{"$f":"'т.4.1'!D14/т.2!D15","v":14.743926836238925},{"$f":"т.6!D14/'т.4.1'!D14","v":1.6475605264688209},{"$f":"'т.4.2'!D15/'т.4.1'!D14*100","v":2.5722537750295609}]
[11,"Жиганская",{"$f":"(т.4!J15/т.1!C18)/1000","v":15.405749999999999},{"$f":"'т.4.1'!D15/т.2!D16","v":21.798019101521046},{"$f":"т.6!D15/'т.4.1'!D15","v":0.80568943413985039},{"$f":"'т.4.2'!D16/'т.4.1'!D15*100","v":3.6674618243188419}]
[12,"Кобяйская",{"$f":"(т.4!J16/т.1!C19)/1000","v":18.536000000000001},{"$f":"'т.4.1'!D16/т.2!D17","v":21.083238548236999},{"$f":"т.6!D16/'т.4.1'!D16","v":0.86341566288696203},{"$f":"'т.4.2'!D17/'т.4.1'!D16*100","v":1.7690391179817162}]
[13,"Ленская",{"$f":"(т.4!J17/т.1!C20)/1000","v":6.8579874213836476},{"$f":"'т.4.1'!D17/т.2!D18","v":13.210006663032285},{"$f":"т.6!D17/'т.4.1'!D17","v":1.6207516369839146},{"$f":"'т.4.2'!D18/'т.4.1'!D17*100","v":4.1034647200161407}]
[14,"Момская",{"$f":"(т.4!J18/т.1!C21)/1000","v":23.58184210526316},{"$f":"'т.4.1'!D18/т.2!D19","v":37.954680220245656},{"$f":"т.6!D18/'т.4.1'!D18","v":0.49011840064277823},{"$f":"'т.4.2'!D19/'т.4.1'!D18*100","v":2.7106047248663669}]
[15,"Намская",{"$f":"(т.4!J19/т.1!C22)/1000","v":7.9705976095617528},{"$f":"'т.4.1'!D19/т.2!D20","v":12.848371973540557},{"$f":"т.6!D19/'т.4.1'!D19","v":1.7459937419399987},{"$f":"'т.4.2'!D20/'т.4.1'!D19*100","v":5.9936419709889934}]
[16,"Нижнеколымская",{"$f":"(т.4!J20/т.1!C23)/1000","v":23.927142857142854},{"$f":"'т.4.1'!D20/т.2!D21","v":45.328822733423543},{"$f":"т.6!D20/'т.4.1'!D20","v":0.49517384122435171},{"$f":"'т.4.2'!D21/'т.4.1'!D20*100","v":2.214062531096384}]
[17,"Нюрбинская",{"$f":"(т.4!J21/т.1!C24)/1000","v":14.904078947368424},{"$f":"'т.4.1'!D21/т.2!D22","v":19.564338764465425},{"$f":"т.6!D21/'т.4.1'!D21","v":1.0011153193079723},{"$f":"'т.4.2'!D22/'т.4.1'!D21*100","v":0.87548151483315828}]
[18,"Оймяконская",{"$f":"(т.4!J22/т.1!C25)/1000","v":15.147105263157895},{"$f":"'т.4.1'!D22/т.2!D23","v":17.770608212411236},{"$f":"т.6!D22/'т.4.1'!D22","v":0.95746972671519659},{"$f":"'т.4.2'!D23/'т.4.1'!D22*100","v":1.7382164387845516}]
[19,"Олекминская",{"$f":"(т.4!J23/т.1!C26)/1000","v":11.385707317073171},{"$f":"'т.4.1'!D23/т.2!D24","v":15.684900208319334},{"$f":"т.6!D23/'т.4.1'!D23","v":1.2853170641840219},{"$f":"'т.4.2'!D24/'т.4.1'!D23*100","v":2.1854528784483755}]
[20,"Оленекская",{"$f":"(т.4!J24/т.1!C27)/1000","v":11.656136363636362},{"$f":"'т.4.1'!D24/т.2!D25","v":14.152041942604857},{"$f":"т.6!D24/'т.4.1'!D24","v":0.87394466433989115},{"$f":"'т.4.2'!D25/'т.4.1'!D24*100","v":2.3397742117885625}]
[21,"Среднеколымская",{"$f":"(т.4!J25/т.1!C28)/1000","v":19.656865671641789},{"$f":"'т.4.1'!D25/т.2!D26","v":25.981653186032748},{"$f":"т.6!D25/'т.4.1'!D25","v":0.4272860494605204},{"$f":"'т.4.2'!D26/'т.4.1'!D25*100","v":5.0242594968906849}]
[22,"Сунтарская",{"$f":"(т.4!J26/т.1!C29)/1000","v":10.749684684684686},{"$f":"'т.4.1'!D26/т.2!D27","v":14.492196514240602},{"$f":"т.6!D26/'т.4.1'!D26","v":1.2714179758048634},{"$f":"'т.4.2'!D27/'т.4.1'!D26*100","v":5.7479163436597762}]
[23,"Таттинская",{"$f":"(т.4!J27/т.1!C30)/1000","v":12.952083333333333},{"$f":"'т.4.1'!D27/т.2!D28","v":25.443755846585596},{"$f":"т.6!D27/'т.4.1'!D27","v":0.79425078701256924},{"$f":"'т.4.2'!D28/'т.4.1'!D27*100","v":3.5193823387485925}]
[24,"Томпонская",{"$f":"(т.4!J28/т.1!C31)/1000","v":16.531467889908257},{"$f":"'т.4.1'!D28/т.2!D29","v":30.279448832129052},{"$f":"т.6!D28/'т.4.1'!D28","v":0.77140066484269643},{"$f":"'т.4.2'!D29/'т.4.1'!D28*100","v":1.3985004966896606}]
[25,"Усть-Алданская",{"$f":"(т.4!J29/т.1!C32)/1000","v":18.638409090909093},{"$f":"'т.4.1'!D29/т.2!D30","v":21.06359480145888},{"$f":"т.6!D29/'т.4.1'!D29","v":0.99418600397517343},{"$f":"'т.4.2'!D30/'т.4.1'!D29*100","v":2.9318733309758684}]
[26,"Усть-Майская",{"$f":"(т.4!J30/т.1!C33)/1000","v":17.596712328767122},{"$f":"'т.4.1'!D30/т.2!D31","v":28.808252971518279},{"$f":"т.6!D30/'т.4.1'!D30","v":1.1489692968798655},{"$f":"'т.4.2'!D31/'т.4.1'!D30*100","v":4.3003051628573203}]
[27,"Усть-Янская",{"$f":"(т.4!J31/т.1!C34)/1000","v":26.338656716417916},{"$f":"'т.4.1'!D31/т.2!D32","v":32.843662758235624},{"$f":"т.6!D31/'т.4.1'!D31","v":0.52015934810079956},{"$f":"'т.4.2'!D32/'т.4.1'!D31*100","v":1.0392760201508482}]
[28,"Хангаласская",{"$f":"(т.4!J32/т.1!C35)/1000","v":9.5852186588921278},{"$f":"'т.4.1'!D32/т.2!D33","v":13.511959559427915},{"$f":"т.6!D32/'т.4.1'!D32","v":1.166698603595794},{"$f":"'т.4.2'!D33/'т.4.1'!D32*100","v":3.6684885924330772}]
[29,"Чурапчинская",{"$f":"(т.4!J33/т.1!C36)/1000","v":12.604449541284403},{"$f":"'т.4.1'!D33/т.2!D34","v":18.052493265882664},{"$f":"т.6!D33/'т.4.1'!D33","v":1.2095080738198611},{"$f":"'т.4.2'!D34/'т.4.1'!D33*100","v":2.039108076731313}]
[30,"Мирнинская",{"$f":"(т.4!J34/т.1!C37)/1000","v":3.105871687587169},{"$f":"'т.4.1'!D34/т.2!D35","v":9.5313730525594931},{"$f":"т.6!D34/'т.4.1'!D34","v":2.4181578959185597},{"$f":"'т.4.2'!D35/'т.4.1'!D34*100","v":3.6624740110736402}]
[31,"Нерюнгринская",3.7,{"$f":"'т.4.1'!D35/т.2!D36","v":11.231009048741541},{"$f":"т.6!D35/'т.4.1'!D35","v":2.0485988395317505},{"$f":"'т.4.2'!D36/'т.4.1'!D35*100","v":3.8503984454871056}]
[32,"Эвено-Бытантайская",{"$f":"(т.4!J36/т.1!C39)/1000","v":14.202999999999999},{"$f":"'т.4.1'!D36/т.2!D37","v":30.006338028169015},{"$f":"т.6!D36/'т.4.1'!D36","v":0.9055363890257927},{"$f":"'т.4.2'!D37/'т.4.1'!D36*100","v":1.6827430824473701}]
[33,"Якутская",{"$f":"(т.4!J37/т.1!C40)/1000","v":1.2294493506493507},{"$f":"'т.4.1'!D37/т.2!D38","v":6.5699414263109679},{"$f":"т.6!D37/'т.4.1'!D37","v":3.1323134842332538},{"$f":"'т.4.2'!D37/'т.4.1'!D36*100","v":1.6827430824473701}]
[34,"Алданская",5.3,{"$f":"'т.4.1'!D38/т.2!D39","v":13.366989117291414},{"$f":"т.6!D38/'т.4.1'!D38","v":1.3548479503068132},{"$f":"'т.4.2'!D39/'т.4.1'!D38*100","v":6.3066322915253217}]
[35,"М.-Кангаласская",{"$f":"(т.4!J39/т.1!C42)/1000","v":13.910303951367782},{"$f":"'т.4.1'!D39/т.2!D40","v":21.655657029290683},{"$f":"т.6!D39/'т.4.1'!D39","v":0.83948397134048147},{"$f":"'т.4.2'!D40/'т.4.1'!D39*100","v":1.1687996696157972}]
[36,"ГБ г.Нерюнгри",null,{"$f":"'т.4.1'!D40/т.2!D41","v":11.874544450579791},{"$f":"т.6!D40/'т.4.1'!D40","v":1.7182303485733417},{"$f":"'т.4.2'!D41/'т.4.1'!D40*100","v":3.0932628994457052}]
[37,"Бердигестях ДБ",null,{"$f":"'т.4.1'!D41/т.2!D42","v":10.82258064516129},{"$f":"т.6!D41/'т.4.1'!D41","v":2.2072727272727271},{"$f":"'т.4.2'!D42/'т.4.1'!D41*100","v":2.1698956780923995}]
[38,"Б-ка ГО \"Жатай\"",{"$f":"(т.4!J42/т.1!C45)/1000","v":1.7989830508474574},{"$f":"'т.4.1'!D42/т.2!D43","v":8.040909090909091},{"$f":"т.6!D42/'т.4.1'!D42","v":2.2351140003768606},{"$f":"'т.4.2'!D43/'т.4.1'!D42*100","v":1.2012436404748446}]
[39,"Алданский БИЦ",null,{"$f":"'т.4.1'!D43/т.2!D44","v":10.526106696935301},{"$f":"т.6!D43/'т.4.1'!D43","v":1.9080174691324743},{"$f":"'т.4.2'!D44/'т.4.1'!D43*100","v":5.1329055912007338}]
[40,"Томмотский БИЦ",null,{"$f":"'т.4.1'!D44/т.2!D45","v":8.1688001735734428},{"$f":"т.6!D44/'т.4.1'!D44","v":2.9845949535192564},{"$f":"'т.4.2'!D45/'т.4.1'!D44*100","v":8.2018592297476758}]
[null,"Итого по МБ",{"$f":"(т.4!J45/т.1!C48)/1000","v":6.8312210463258785},{"$f":"'т.4.1'!D45/т.2!D46","v":15.997734366780065},{"$f":"т.6!D45/'т.4.1'!D45","v":1.299449982907422},{"$f":"'т.4.2'!D46*100/'т.4.1'!D45","v":3.0823640109667267}]
[null,"НБ РС(Я)",null,{"$f":"'т.4.1'!D46/т.2!D47","v":47.976350421232311},{"$f":"т.6!D46/'т.4.1'!D46","v":0.93928142880998877},{"$f":"'т.4.2'!D47*100/'т.4.1'!D46","v":1.101631645182449}]
[null,"Филиал НБ \"ДТК\"",null,{"$f":"'т.4.1'!D47/т.2!D48","v":14.121437031188314},{"$f":"т.6!D47/'т.4.1'!D47","v":0.76633789586688139},{"$f":"'т.4.2'!D48*100/'т.4.1'!D47","v":1.4515118983718018}]
[null,"ЯРСБНС",null,{"$f":"'т.4.1'!D48/т.2!D49","v":62.282920989624898},{"$f":"т.6!D48/'т.4.1'!D48","v":0.69016728493538615},{"$f":"'т.4.2'!D49*100/'т.4.1'!D48","v":2.5691788238158391}]
[null,"ВСЕГО ",{"$f":"(т.4!J49/т.1!C52)/1000","v":8.9054283146964863},{"$f":"'т.4.1'!D49/т.2!D50","v":18.614149352654909},{"$f":"т.6!D49/'т.4.1'!D49","v":1.2077345401632817},{"$f":"'т.4.2'!D50*100/'т.4.1'!D49","v":2.6537171693548993}]

{"sheet":"т.6","index":9,"n_rows":49,"n_cols":7,"rows_kept":49,"cut":false,"hidden":false,"merged":[[1,0,1,6]]}
[null,null,null,null,null,"Таблица 6"]
["Выдача документов из фондов библиотек"]
[]
["№","ЦБС",2023,2024,"\"+  -\"","в городе","на селе"]
[1,"Абыйская",95723,96723,{"$f":" D5 - C5","v":1000},{"$f":"D5 - G5","v":56271},40452]
[2,"Аллаиховская",50659,47693,-2966,40434,7259]
[3,"Амгинская",245176,248239,3063,{"$f":"D7-G7","v":0},248239]
[4,"Анабарская",24654,30872,6218,{"$f":"D8-G8","v":0},30872]
[5,"Булунская",155419,160510,5091,108980,51530]
[6,"Верхневилюйская",319032,315407,-3625,{"$f":"D10-G10","v":0},315407]
[7,"Верхнеколымская",82825,86354,3529,58802,27552]
[8,"Верхоянская",143415,156842,13427,80420,76422]
[9,"Вилюйская",332749,347943,15194,199911,148032]
[10,"Горная",168509,169992,1483,0,169992]
[11,"Жиганская",49160,49649,489,0,49649]
[12,"Кобяйская",180100,176047,-4053,109144,66903]
[13,"Ленская",360963,353460,-7503,275660,77800]
[14,"Момская",42512,43920,1408,0,43920]
[15,"Намская",324081,349307,25226,{"$f":"D19-G19","v":0},349307]
[16,"Нижнеколымская",40737,49762,9025,45822,3940]
[17,"Нюрбинская",318014,340192,22178,150920,189272]
[18,"Оймяконская",108893,110222,1329,68070,42152]
[19,"Олекминская",303734,300002,-3732,143160,156842]
[20,"Оленекская",42879,44822,1943,0,44822]
[21,"Среднеколымская",53439,56274,2835,25133,31141]
[22,"Сунтарская",313158,303415,-9743,0,303415]
[23,"Таттинская",168115,172825,4710,0,172825]
[24,"Томпонская",155182,139001,-16181,63569,75432]
[25,"Усть-Алданская",416499,407661,-8838,0,407661]
[26,"Усть-Майская",152777,147592,-5185,111391,36201]
[27,"Усть-Янская",84164,91792,7628,69868,21924]
[28,"Хангаласская",439929,383579,-56350,182320,201259]
[29,"Чурапчинская",325287,332345,7058,0,332345]
[30,"Мирнинская",537800,538502,702,516545,21957]
[31,"Нерюнгринская",303944,302576,-1368,282038,20538]
[32,"Эвено-Бытантайcкая",39178,38584,-594,0,38584]
[33,"Якутская",1458553,1482643,{"$f":" D37 - C37","v":24090},{"$f":"D37 - G37","v":1340379},142264]
[34,"Алданская",178809,179726,{"$f":" D38 - C38","v":917},{"$f":"D38 - G38","v":161555},18171]
[35,"Мегино-Кангаласская",392989,384189,{"$f":" D39 - C39","v":-8800},{"$f":"D39 - G39","v":18436},365753]
[36,"ГБ г.Нерюнгри ",183869,184751,882,184751,0]
[37,"Бердигестях ДБ",39097,37027,null,0,37027]
[38,"Б-ка ГО \"Жатай\"",56679,47447,{"$f":" D42 - C42","v":-9232},47447,0]
[39,"Алданский БИЦ",74753,70776,{"$f":" D43 - C43","v":-3977},{"$f":"D43 - G43","v":67438},3338]
[40,"Томмотский БИЦ",112705,112370,{"$f":" D44 - C44","v":-335},{"$f":"D44 - G44","v":104947},7423]
[null,"Итого по МБ",{"$f":"SUM(C5:C44)","v":8876160},{"$f":"SUM(D5:D44)","v":8891033},14873,4513411,{"$f":"SUM(G5:G44)","v":4377622}]
[null,"НБ РС(Я)",1441687,1636789,195102,1636789,0]
[null,"Филиал НБ \"ДТК\"",129439,137058,7619,137058,0]
[null,"ЯРСБНС",99722,107722,8000,107722,0]
[null,"Итого по РС(Я)",{"$f":"SUM(C45:C48)","v":10547008},{"$f":"SUM(D45:D48)","v":10772602},225594,{"$f":"SUM(F45:F48)","v":6394980},{"$f":"SUM(G45:G48)","v":4377622}]

{"sheet":"т.6.1","index":10,"n_rows":50,"n_cols":8,"rows_kept":50,"cut":false,"hidden":false,"merged":[[1,0,1,6],[3,4,3,7],[3,0,4,0],[3,1,4,1],[3,2,4,2],[3,3,4,3]]}
[null,null,null,null,null,null,"Таблица 6.1"]
["Выдача документов из фондов библиотек"]
[]
["№","ЦБС",2023,2024,"в том числе"]
[null,null,null,null,"из фонда на физ. нос.","из ЭБ","инсталл. док.","сетев. удал. лиц. док."]
[1,"Абыйская",95723,96723,96723]
[2,"Аллаиховская",50659,47693,47693]
[3,"Амгинская",245176,248239,243063,null,null,5176]
[4,"Анабарская",24654,30872,30839,33]
[5,"Булунская",155419,160510,160510]
[6,"Верхневилюйская",319032,315407,314785,81,271,270]
[7,"Верхнеколымская",82825,86354,86014,null,null,340]
[8,"Верхоянская",143415,156842,156818,null,24]
[9,"Вилюйская",332749,347943,319920,28023]
[10,"Горная",168509,169992,169588,null,187,217]
[11,"Жиганская",49160,49649,49536,null,null,113]
[12,"Кобяйская",180100,176047,174368,1679]
[13,"Ленская",360963,353460,344434,null,68,8958]
[14,"Момская",42512,43920,43920]
[15,"Намская",324081,349307,348037,361,25,884]
[16,"Нижнеколымская",40737,49762,49762]
[17,"Нюрбинская",318014,340192,340192]
[18,"Оймяконская",108893,110222,110222]
[19,"Олекминская",303734,300002,300002]
[20,"Оленекская",42879,44822,44754,null,null,68]
[21,"Среднеколымская",53439,56274,56274]
[22,"Сунтарская",313158,303415,302306,606,443,60]
[23,"Таттинская",168115,172825,160060,10037,11,2717]
[24,"Томпонская",155182,139001,134337,4098,196,370]
[25,"Усть-Алданская",416499,407661,368361,38582,718]
[26,"Усть-Майская",152777,147592,147592]
[27,"Усть-Янская",84164,91792,91792]
[28,"Хангаласская",439929,383579,335865,46847,313,554]
[29,"Чурапчинская",325287,332345,332345]
[30,"Мирнинская",537800,538502,537134,null,149,1219]
[31,"Нерюнгринская",303944,302576,283839,3507,559,14671]
[32,"Эвено-Бытантайcкая",39178,38584,38584]
[33,"Якутская",1458553,1482643,1461755,null,588,20300]
[34,"Алданская",178809,179726,152480,14682,6493,6071]
[35,"Мег.-Кангаласская",392989,384189,383771,null,null,418]
[36,"ГБ г.Нерюнгри ",183869,184751,178768,null,4654,1329]
[37,"Бердигестях ДБ",39097,37027,37027]
[38,"Б-ка ГО \"Жатай\"",56679,47447,47447]
[39,"Алданский БИЦ",74753,70776,70776]
[40,"Томмотский БИЦ",112705,112370,112370]
[null,"Итого по МБ",{"$f":"SUM(C6:C45)","v":8876160},8891033,8664063,148536,14699,63735]
[null,"НБ РС(Я)",1441687,1636789,657275,929365,4416,45733]
[null,"Филиал НБ \"ДТК\"",129439,137058,137058]
[null,"ЯРСБНС",99722,107722,61580,25226,null,20916]
[null,"Итого по РС(Я)",{"$f":"SUM(C46:C49)","v":10547008},10772602,9519976,1103127,19115,130384]

{"sheet":"т.7","index":11,"n_rows":50,"n_cols":10,"rows_kept":50,"cut":false,"hidden":false,"merged":[[1,0,1,9],[2,0,2,9]]}
[null,null,null,null,null,null,null,null,"Таблица 7"]
["Общие сведения."]
["Характеристика помещений  библиотек республики."]
[]
["№","ЦБС","кол-во\nбиб-к всего","общая\nплощадь\n(кв.м.) 2023","общая\nплощадь\n(кв.м.) 2024","\"+  -\"","требуют\nкап.ремонт\n(ед.)","аварий-\nных\n(ед.)","арендо-\nванных\n(ед.)","прочие"]
[1,"Абыйская ",7,678.3,678.3,{"$f":"E6-D6","v":0}]
[2,"Аллаиховская ",6,401.3,401.3,{"$f":"E7-D7","v":0},1]
[3,"Амгинская ",16,1321.6,1405.1,83.5,null,2]
[4,"Анабарская ",3,251,251,0,null,null,1]
[5,"Булунская ",8,862.8,862.8,0,5]
[6,"Верхневилюйская",23,2308.5,2198.5,-110]
[7,"Верхнеколымская ",7,822.3,714.1,-108.19999999999993,null,null,1]
[8,"Верхоянская ",17,1222.2,1222.2,0]
[9,"Вилюйская ",24,2241.1999999999998,2305.9,64.700000000000273,null,1]
[10,"Горная",9,856.3,856.3,0,null,1]
[11,"Жиганская ",5,279.60000000000002,279.60000000000002,0]
[12,"Кобяйская ",17,1516.3,1516.3,0,null,null,10]
[13,"Ленская ",21,2376.6999999999998,2392.5,15.800000000000182,null,null,5]
[14,"Момская ",7,591.9,591.9,0]
[15,"Намская ",20,2346.6999999999998,2397.6999999999998,51,1]
[16,"Нижнеколымская ",6,605.70000000000005,605.70000000000005,0,1]
[17,"Нюрбинская",23,1624.9,1624.9,0]
[18,"Оймяконская ",9,803.3,803.3,0,null,null,2]
[19,"Олекминская ",27,1567.9,1555.8,-12.100000000000136]
[20,"Оленекская ",5,374.9,374.9,0]
[21,"Среднеколымская ",11,588.5,588.5,0]
[22,"Сунтарская",22,1802.5,1802.5,0,null,2]
[23,"Таттинская ",15,1364.2,1314.1,-50.100000000000136,1]
[24,"Томпонская ",13,2202.6999999999998,2202.6999999999998,0,null,1,1]
[25,"Усть-Алданская",28,3374.4,3051.3,-323.09999999999991]
[26,"Усть-Майская ",10,623.1,649.70000000000005,26.600000000000023,null,null,7]
[27,"Усть-Янская",11,599.1,599.1,{"$f":"E32-D32","v":0},null,null,11]
[28,"Хангаласская",24,2676.6,2745.4,{"$f":"E33-D33","v":68.800000000000182},null,1]
[29,"Чурапчинская ",19,1763.3,2180.4,{"$f":"E34-D34","v":417.10000000000014}]
[30,"Мирнинская ",11,2679.1,2679.1,{"$f":"E35-D35","v":0},null,null,8]
[31,"Нерюнгринская ",8,1585.4,1572.3,{"$f":"E36-D36","v":-13.100000000000136}]
[32,"Эвено-Бытантайская ",3,167,167,{"$f":"E37-D37","v":0}]
[33,"Якутская",18,8059.1,8059.1,0,null,null,2]
[34,"Алданская",9,1175.5,1194.3,18.799999999999955,null,null,8]
[35,"Мегино-Кангаласская",31,2712.3,2667.8,-44.5,null,2]
[36,"ГБ г.Нерюнгри ",1,1527.5,1527.5,0]
[37,"Бердигестях ДБ",1,192.2,192.2,0]
[38,"Б-ка ГО \"Жатай\"",1,307,307,0]
[39,"Алданский БИЦ",2,427.2,427.2,0,null,null,1]
[40,"Томмотский БИЦ",3,376,376,0]
[null,"Итого по МБ",{"$f":"SUM(C6:C45)","v":501},{"$f":"SUM(D6:D45)","v":57256.1},{"$f":"SUM(E6:E45)","v":57341.3},85.200000000004366,{"$f":"SUM(G6:G45)","v":9},{"$f":"SUM(H6:H45)","v":10},{"$f":"SUM(I6:I45)","v":57},{"$f":"SUM(J6:J43)","v":0}]
[null,"НБ РС(Я)",1,8483.2000000000007,8483.2000000000007,0,1]
[null,"Филиал НБ \"ДТК\"",1,924,924,0,null,null,1]
[null,"ЯРСБНС",1,328.5,328.5,0]
[null,"Итого по РС(Я)",{"$f":"SUM(C46:C49)","v":504},{"$f":"SUM(D46:D49)","v":66991.8},{"$f":"SUM(E46:E49)","v":67077},85.19999999999709,10,10,58,0]

{"sheet":"т.8","index":12,"n_rows":52,"n_cols":10,"rows_kept":52,"cut":false,"hidden":false,"merged":[[1,0,1,9],[2,0,2,9],[3,6,3,9]]}
[null,null,null,null,null,null,null,null,"Таблица 8"]
["Материально-техническая база библиотек республики."]
["Количество технических средств, средств связи."]
["№","ЦБС","всего","число","число","число ","число библиотек, имеющих"]
[null,null,"кол-во","посад.","посад.","посад.","здание","спец.","Интернет","доступ"]
[null,null,"биб-к","мест","мест","мест","для лиц","оборуд.","сайт","в"]
[null,null,null,"для польз.","комп.","с Инт. ","с ОВЗ пандус","для инвал.","или стр.","Инт."]
[1,"Абыйская ",7,74,9,9,2,2,1,7]
[2,"Аллаиховская ",6,56,4,3,null,null,1,4]
[3,"Амгинская ",16,150,35,33,8,15,2,16]
[4,"Анабарская ",3,30,7,7,2,1,1,3]
[5,"Булунская ",8,122,11,8,5,null,1,8]
[6,"Верхневилюйская",23,340,55,47,16,1,23,23]
[7,"Верхнеколымская ",7,83,18,11,1,null,1,7]
[8,"Верхоянская ",17,166,15,11,2,null,1,16]
[9,"Вилюйская ",24,277,38,30,17,1,1,23]
[10,"Горная ",9,94,17,11,3,1,1,9]
[11,"Жиганская ",5,43,10,10,null,null,1,5]
[12,"Кобяйская ",17,220,40,38,null,null,3,17]
[13,"Ленская ",21,196,25,25,10,null,1,21]
[14,"Момская ",7,65,9,6,1,null,1,6]
[15,"Намская ",20,303,44,37,12,1,20,20]
[16,"Нижнеколымская ",6,48,6,5,null,null,1,6]
[17,"Нюрбинская",23,208,27,25,23,null,1,22]
[18,"Оймяконская ",9,96,6,5,null,null,1,8]
[19,"Олекминская ",27,294,63,51,10,2,22,26]
[20,"Оленекская ",5,34,9,7,null,null,2,5]
[21,"Среднеколымская ",11,60,10,10,null,null,1,10]
[22,"Сунтарская",22,231,31,27,16,null,22,22]
[23,"Таттинская ",15,156,35,28,null,null,15,15]
[24,"Томпонская ",13,159,28,25,2,1,2,12]
[25,"Усть-Алданская ",28,353,53,40,10,2,27,28]
[26,"Усть-Майская ",10,56,3,3,null,null,1,10]
[27,"Усть-Янская",11,61,2,2,null,null,2,9]
[28,"Хангаласская",24,286,74,62,10,1,7,24]
[29,"Чурапчинская ",19,258,53,46,3,1,19,19]
[30,"Мирнинская ",11,287,26,26,5,4,1,11]
[31,"Нерюнгринская ",8,158,33,32,4,null,8,8]
[32,"Эвено-Бытантайская ",3,10,1,1,null,null,1,3]
[33,"Якутская",18,688,116,115,12,10,3,18]
[34,"Алданская",9,124,27,25,2,1,1,9]
[35,"Мег.-Кангаласская",31,298,64,58,17,null,31,31]
[36,"ГБ г.Нерюнгри ",1,232,13,13,1,1,1,1]
[37,"Бердигестях ДБ",1,36,6,6,1,null,1,1]
[38,"Б-ка ГО \"Жатай\"",1,30,1,1,1,1,1,1]
[39,"Алданский БИЦ",2,71,5,4,1,null,1,1]
[40,"Томмотский БИЦ",3,69,11,11,null,null,1,2]
[null,"ИТОГО по МБ",{"$f":"SUM(C8:C47)","v":501},{"$f":"SUM(D8:D47)","v":6522},{"$f":"SUM(E8:E47)","v":1040},{"$f":"SUM(F8:F47)","v":914},{"$f":"SUM(G8:G46)","v":197},{"$f":"SUM(H8:H45)","v":46},{"$f":"SUM(I8:I47)","v":232},{"$f":"SUM(J8:J47)","v":487}]
[null,"НБ РС(Я)",1,404,49,38,1,1,1,1]
[null,"Филиал НБ \"ДТК\"",1,96,7,7,null,null,1,1]
[null,"ЯРСБНС",1,16,8,8,null,1,1,1]
[null,"Итого по РС(Я)",{"$f":"SUM(C48:C51)","v":504},7038,1104,{"$f":"SUM(F48:F51)","v":967},198,48,235,490]

{"sheet":"т.8.1","index":13,"n_rows":46,"n_cols":10,"rows_kept":46,"cut":false,"hidden":false,"merged":[[1,0,1,9],[2,0,2,9],[3,6,3,9],[0,8,0,9]]}
[null,null,null,null,null,null,null,null,"Таблица 8.1"]
["Материально-техническая база библиотек на селе."]
["Количество технических средств, средств связи."]
["№","ЦБС","всего","число","число","число ","число библиотек, имеющих"]
[null,null,"кол-во","посад.","посад.","посад.","здание","спец.","Интернет","доступ"]
[null,null,"биб-к","мест","мест","мест","для лиц","оборуд.","сайт","в"]
[null,null,null,"для польз.","компьют.","с Инт. ","с ОВЗ, пандус","для инвал.",null,"Интернет"]
[1,"Абыйская ",5,48,5,5,null,null,null,5]
[2,"Аллаиховская ",4,30,1,null,null,null,null,2]
[3,"Амгинская ",16,150,35,33,8,15,2,16]
[4,"Анабарская ",3,30,7,7,2,1,1,3]
[5,"Булунская ",6,48,5,3,3,null,null,6]
[6,"Верхневилюйская",23,340,55,47,16,1,23,23]
[7,"Верхнеколымская ",5,55,11,5,1,null,null,5]
[8,"Верхоянская ",13,101,8,5,null,null,null,12]
[9,"Вилюйская ",20,134,20,14,15,null,null,19]
[10,"Горная",9,94,17,11,3,1,1,9]
[11,"Жиганская ",5,43,10,10,null,null,1,5]
[12,"Кобяйская ",15,174,25,23,null,null,2,15]
[13,"Ленская ",14,43,14,14,7,null,null,14]
[14,"Момская ",7,65,9,6,1,null,1,6]
[15,"Намская ",20,303,44,37,12,1,20,20]
[16,"Нижнеколымская ",3,19,3,3,null,null,null,3]
[17,"Нюрбинская",20,146,24,22,20,null,null,19]
[18,"Оймяконская ",6,56,2,1,null,null,null,5]
[19,"Олекминская ",25,209,50,38,8,1,20,24]
[20,"Оленекская ",5,34,9,7,null,null,2,5]
[21,"Среднеколымская ",9,38,8,8,null,null,null,8]
[22,"Сунтарская",22,231,31,27,16,null,22,22]
[23,"Таттинская ",15,156,35,28,null,null,15,15]
[24,"Томпонская ",10,79,6,3,null,null,null,9]
[25,"Усть-Алданская",28,353,53,40,10,2,27,28]
[26,"Усть-Майская ",5,12,null,null,null,null,null,5]
[27,"Усть-Янская",7,21,null,null,null,null,null,5]
[28,"Хангаласская",21,193,46,36,7,null,4,21]
[29,"Чурапчинская ",19,258,53,46,3,1,19,19]
[30,"Мирнинская ",3,17,4,4,null,null,null,3]
[31,"Нерюнгринская ",2,18,4,3,null,null,2,2]
[32,"Эвено-Бытантайская ",3,10,1,1,null,null,1,3]
[33,"Якутская",4,92,18,17,4,3,1,4]
[34,"Алданская",5,32,6,4,1,null,null,5]
[35,"Мег.-Кангаласская",30,292,63,57,16,null,30,30]
[36,"Бердигестях ДБ",1,36,6,6,1,null,1,1]
[37,"Алданский БИЦ",1,11,1]
[38,"Томмотский БИЦ",1,6,1,1]
[null,"Итого по РС(Я)",{"$f":"SUM(C8:C45)","v":410},3977,690,572,154,26,195,396]

{"sheet":"т.9","index":14,"n_rows":51,"n_cols":10,"rows_kept":51,"cut":false,"hidden":false,"merged":[[1,0,1,8],[3,5,3,8]]}
[null,null,null,null,null,null,null,"Таблица 9"]
["Персонал библиотек республики."]
[]
[null,null,"штат","числ.","из них","из них имеют",null,null,null,"из них прошли"]
["№","ЦБС","библ.","раб-ков","основной","высшее","из них","среднее","из них","повыш кв."]
[null,null,null,"всего","персонал","обр.","библ.","спец.","библ.","переподг."]
[1,"Абыйская",21,21,15,12,9,3,null,4]
[2,"Аллаиховская",15.5,17,12,11,5,1,null,4]
[3,"Амгинская",57.5,62,44,38,26,5,3,14]
[4,"Анабарская",8,8,6,3,1,3,2,3]
[5,"Булунская",28.5,32,23,15,14,8,5,5]
[6,"Верхневилюйская",57.5,65,44,36,32,8,5,16]
[7,"Верхнеколымская",17,21,15,9,3,2,1,1]
[8,"Верхоянская",49,55,39,22,20,17,16,10]
[9,"Вилюйская",53,61,43,37,33,6,3,31]
[10,"Горная",24,25,24,22,14,2,2,8]
[11,"Жиганская",9,9,7,6,6,1,1,2]
[12,"Кобяйская",48.5,56,38,21,15,16,9,7]
[13,"Ленская",92,92,58,25,8,30,12,22]
[14,"Момская",20,21,13,9,9,3,3,4]
[15,"Намская",56.5,65,39,30,24,9,3,18]
[16,"Нижнеколымская",16.25,12,12,6,5,6,5,1]
[17,"Нюрбинская",63.5,68,52,39,34,13,9,22]
[18,"Оймяконская",26.5,27,20,11,7,8,6,10]
[19,"Олекминская",61.5,70,46,32,10,12,7,15]
[20,"Оленекская",14.5,14,13,7,6,6,6,2]
[21,"Среднеколымская",20,20,18,7,6,11,9,2]
[22,"Сунтарская",60.75,65,47,37,33,10,7,15]
[23,"Таттинская",42.5,49,31,25,23,6,6,15]
[24,"Томпонская",42,42,31,18,14,12,9,14]
[25,"Усть-Алданская",67.5,86,58,53,50,5,4,16]
[26,"Усть-Майская",33,33,24,16,10,8,5,12]
[27,"Усть-Янская",23,23,20,10,9,10,8,4]
[28,"Хангаласская",65,84,57,46,39,9,5,21]
[29,"Чурапчинская",52,63,40,35,26,5,1,19]
[30,"Мирнинская",68.75,71,50,35,29,10,6,34]
[31,"Нерюнгринская",29.25,28,24,14,6,10,5,8]
[32,"Эвено-Бытантай",8,9,6,3,3,2,1,2]
[33,"Якутская",185,195,172,161,119,11,10,70]
[34,"Алданская",44.25,46,35,18,8,16,7,13]
[35,"М.-Кангаласская",67,60,58,48,41,9,8,25]
[36,"ГБ г.Нерюнгри ",13,14,13,11,9,2,1,6]
[37,"Бердигестях ДБ",7.5,8,4,4,4,null,null,2]
[38,"Б-ка ГО \"Жатай\"",5,5,4,4,4]
[39,"Алданский БИЦ",10.5,11,8,5,1,2,1,1]
[40,"Томмотский БИЦ",10,9,8,2,2,5,5,3]
[null,"Итого по МБ",{"$f":"SUM(C7:C46)","v":1593.25},1722,1271,943,717,302,196,481]
[null,"НБ РС(Я)",222.5,251,240,226,144,14,4,68]
[null,"Филиал НБ \"ДТК\"",30.5,30,30,28,14,2,null,10]
[null,"ЯРСБНС",17.5,18,16,16,5,null,null,9]
[null,"Итого по РС(Я)",{"$f":"SUM(C47:C50)","v":1863.75},{"$f":"SUM(D47:D50)","v":2021},1557,1213,880,318,200,568]

{"sheet":"т.9.1","index":15,"n_rows":51,"n_cols":9,"rows_kept":51,"cut":false,"hidden":false,"merged":[[3,3,3,5],[3,6,3,8],[1,0,1,8]]}
[null,null,null,null,null,null,null,"Таблица 9.1"]
["Персонал библиотек республики."]
[]
[null,null,"из них","со стажем работы",null,null,"по возрасту"]
["№","ЦБС","основной","до 3","от 3 до","свыше","до 30","от 30 до","55 лет и"]
[null,null,"персонал","лет","10 лет","10 лет","лет","55 лет","старше"]
[1,"Абыйская",15,7,4,4,2,9,4]
[2,"Аллаиховская",12,5,2,5,null,7,5]
[3,"Амгинская",44,7,3,34,null,28,16]
[4,"Анабарская",6,1,2,3,null,5,1]
[5,"Булунская",23,3,8,12,3,12,8]
[6,"Верхневилюйская",44,8,12,24,null,27,17]
[7,"Верхнеколымская",15,7,1,7,3,7,5]
[8,"Верхоянская",39,18,9,12,5,22,12]
[9,"Вилюйская",43,7,8,28,3,23,17]
[10,"Горная",24,6,5,13,1,19,4]
[11,"Жиганская",7,1,4,2,null,5,2]
[12,"Кобяйская",38,12,8,18,7,22,9]
[13,"Ленская",58,10,23,25,4,42,12]
[14,"Момская",13,3,4,6,1,7,5]
[15,"Намская",39,9,5,25,2,19,18]
[16,"Нижнеколымская",12,2,3,7,3,5,4]
[17,"Нюрбинская",52,11,17,24,3,31,18]
[18,"Оймяконская",20,4,6,10,2,11,7]
[19,"Олекминская",46,9,13,24,5,29,12]
[20,"Оленекская",13,2,7,4,2,8,3]
[21,"Среднеколымская",18,3,4,11,1,14,3]
[22,"Сунтарская",47,6,11,30,null,32,15]
[23,"Таттинская",31,3,5,23,null,17,14]
[24,"Томпонская",31,8,6,17,4,16,11]
[25,"Усть-Алданская",58,7,8,43,2,35,21]
[26,"Усть-Майская",24,6,10,8,1,19,4]
[27,"Усть-Янская",20,10,2,8,3,14,3]
[28,"Хангаласская",57,11,17,29,2,32,23]
[29,"Чурапчинская",40,15,7,18,3,23,14]
[30,"Мирнинская",50,14,14,22,7,39,4]
[31,"Нерюнгринская",24,5,6,13,null,16,8]
[32,"Эвено-Бытантай",6,null,null,6,null,1,5]
[33,"Якутская",172,37,41,94,22,120,30]
[34,"Алданская",35,9,5,21,1,17,17]
[35,"М.-Кангаласская",58,16,11,31,3,40,15]
[36,"ГБ г.Нерюнгри ",13,2,2,9,1,7,5]
[37,"Бердигестях ДБ",4,null,null,4,null,2,2]
[38,"Б-ка ГО \"Жатай\"",4,1,1,2,null,4]
[39,"Алданский БИЦ",8,3,3,2,1,6,1]
[40,"Томмотский БИЦ",8,5,2,1,2,5,1]
[null,"Итого по МБ",{"$f":"SUM(C7:C46)","v":1271},{"$f":"SUM(D7:D46)","v":293},299,679,99,797,375]
[null,"НБ РС(Я)",240,77,52,111,22,129,89]
[null,"Филиал НБ \"ДТК\"",30,13,5,12,8,16,6]
[null,"ЯРСБНС",16,5,6,5,3,11,2]
[null,"Итого по РС(Я)",{"$f":"SUM(C47:C50)","v":1557},{"$f":"SUM(D47:D50)","v":388},362,807,132,953,472]

{"sheet":"т.9.2","index":16,"n_rows":45,"n_cols":10,"rows_kept":45,"cut":false,"hidden":false,"merged":[[1,0,1,8],[3,5,3,8]]}
[null,null,null,null,null,null,null,"Таблица 9.2"]
["Персонал библиотек  (из общего числа- в сельской местности)"]
[]
[null,null,"штат","числ.","из них","из них имеют",null,null,null,"из них прошли"]
["№","ЦБС","библ.","раб-ков","осн.","высшее","из них","среднее","из них","повыш кв."]
[null,null,null,"всего","перс.","обр.","библ.","спец.","библ.","переподг."]
[1,"Абыйская",10,10,5,5,5,null,null,3]
[2,"Аллаиховская",5.5,7,4,3,null,1]
[3,"Амгинская",57.5,62,44,38,26,5,3,14]
[4,"Анабарская",8,8,6,3,1,3,2,3]
[5,"Булунская",10,13,7,6,6,1,1,1]
[6,"Верхневилюйская",57.5,65,44,36,32,8,5,16]
[7,"Верхнеколымская",4.5,8,5,1,1,2,1]
[8,"Верхоянская",18.5,24,13,6,6,7,7,5]
[9,"Вилюйская",25,33,20,18,15,2,1,17]
[10,"Горная",24,25,24,22,14,2,2,8]
[11,"Жиганская",9,9,7,6,6,1,1,2]
[12,"Кобяйская",27.5,36,22,12,9,9,4,3]
[13,"Ленская",34,34,15,5,4,7,3,5]
[14,"Момская",20,21,13,9,9,3,3,4]
[15,"Намская",56.5,65,39,30,24,9,3,18]
[16,"Нижнеколымская",4,3,3,1,1,2,1,1]
[17,"Нюрбинская",27,31,23,14,13,9,5,3]
[18,"Оймяконская",10.5,10,8,6,5,2,2,4]
[19,"Олекминская",32.5,42,25,17,8,6,4,4]
[20,"Оленекская",14.5,14,13,7,6,6,6,2]
[21,"Среднеколымская",9,9,9,2,2,7,5]
[22,"Сунтарская",60.75,65,47,37,33,10,7,15]
[23,"Таттинская",42.5,49,31,25,23,6,6,15]
[24,"Томпонская",12,12,12,6,5,5,5,7]
[25,"Усть-Алданская",67.5,86,58,53,50,5,4,16]
[26,"Усть-Майская",7,7,5,3,1,2,2,4]
[27,"Усть-Янская",8,8,8,5,4,3,2,1]
[28,"Хангаласская",29.25,45,25,18,16,7,5,8]
[29,"Чурапчинская",52,63,40,35,26,5,1,19]
[30,"Мирнинская",4.5,6,3,1,1,null,null,3]
[31,"Нерюнгринская",2,2,2,null,null,2,1]
[32,"Эвено-Бытантайская",8,9,6,3,3,2,1,2]
[33,"Якутская",12,14,13,12,11,1,1,4]
[34,"Алданская",6,7,5,1,1,3,1,2]
[35,"М.-Кангаласская",65,58,56,46,39,9,8,24]
[36,"Бердигестях ДБ",7.5,8,4,4,4,null,null,2]
[37,"Алданский БИЦ",1,1,1,1]
[38,"Томмотский БИЦ",1,1,1,null,null,1,1]
[null,"Итого по РС(Я)",{"$f":"SUM(C7:C44)","v":851},970,666,497,410,153,104,235]

{"sheet":"т.9.3","index":17,"n_rows":45,"n_cols":9,"rows_kept":45,"cut":false,"hidden":false,"merged":[[3,3,3,5],[3,6,3,8],[1,0,1,8]]}
[null,null,null,null,null,null,null,"Таблица 9.3"]
["Персонал библиотек  (из общего числа- в сельской местности)"]
[]
[null,null,"из них","со стажем работы",null,null,"по возрасту"]
["№","ЦБС","основной","от 3 до","от 6 до ","свыше","до 30","от 30 до","55 лет и"]
[null,null,"персонал","6 лет","10 лет","10 лет","лет","55 лет","старше"]
[1,"Абыйская",5,1,1,3,null,3,2]
[2,"Аллаиховская",4,2,1,1,null,2,2]
[3,"Амгинская",44,7,3,34,null,28,16]
[4,"Анабарская",6,1,2,3,null,5,1]
[5,"Булунская",7,1,3,3,null,5,2]
[6,"Верхневилюйская",44,8,12,24,null,27,17]
[7,"Верхнеколымская",5,1,1,3,1,2,2]
[8,"Верхоянская",13,6,3,4,null,7,6]
[9,"Вилюйская",20,3,4,13,2,13,5]
[10,"Горная",24,6,5,13,1,19,4]
[11,"Жиганская",7,1,4,2,null,5,2]
[12,"Кобяйская",22,8,2,12,4,12,6]
[13,"Ленская",15,1,7,7,null,10,5]
[14,"Момская",13,3,4,6,1,7,5]
[15,"Намская",39,9,5,25,2,19,18]
[16,"Нижнеколымская",3,1,1,1,2,null,1]
[17,"Нюрбинская",23,8,2,13,1,12,10]
[18,"Оймяконская",8,1,1,6,null,4,4]
[19,"Олекминская",25,6,5,14,3,16,6]
[20,"Оленекская",13,2,7,4,2,8,3]
[21,"Среднеколымская",9,1,2,6,null,8,1]
[22,"Сунтарская",47,6,11,30,null,32,15]
[23,"Таттинская",31,3,5,23,null,17,14]
[24,"Томпонская",12,4,1,7,2,8,2]
[25,"Усть-Алданская",58,7,8,43,2,35,21]
[26,"Усть-Майская",5,2,2,1,null,4,1]
[27,"Усть-Янская",8,3,1,4,1,5,2]
[28,"Хангаласская",25,4,8,13,1,14,10]
[29,"Чурапчинская",40,15,7,18,3,23,14]
[30,"Мирнинская",3,1,null,2,null,3]
[31,"Нерюнгринская",2,null,1,1,null,1,1]
[32,"Эвено-Бытантайская",6,null,null,6,null,1,5]
[33,"Якутская",13,3,4,6,null,10,3]
[34,"Алданская",5,2,1,2,1,4]
[35,"М.-Кангаласская",56,16,10,30,3,38,15]
[36,"Бердигестях ДБ",4,null,null,4,null,2,2]
[37,"Алданский БИЦ",1,1,null,null,null,1]
[38,"Томмотский БИЦ",1,null,1,null,null,1]
[null,"Итого по МБ",{"$f":"SUM(C7:C44)","v":666},{"$f":"SUM(D7:D44)","v":144},135,387,32,411,223]

{"sheet":"т.10","index":18,"n_rows":54,"n_cols":10,"rows_kept":54,"cut":false,"hidden":false,"merged":[]}
[null,null,null,null,null,null,null,null,"Таблица 10"]
[null,null,"Электронные (сетевые) ресурсы"]
[]
[null,null,"число","из них","число","из них","число","число","объем","объем"]
["№","ЦБС","б-к,","пред.","б-к, ","пред.","б-к,","б-к,","ЭК","ЭБ"]
[null,null,"созд.","доступ","им.","док.","им.","им."]
[null,null,"ЭК","к ЭК","ЭБ","в откр.","сетевые","инсталл."]
[null,null,null,"через",null,"доступе","лиценз.","док."]
[null,null,null,"Инт.",null,null,"док."]
[1,"Абыйская",1,1,null,null,null,null,19360]
[2,"Аллаиховская",1,1,null,null,null,null,8845]
[3,"Амгинская",1,1,1,1,1,null,12354,162]
[4,"Анабарская",1,1,1,1,null,null,14764,49]
[5,"Булунская",1,1,null,null,null,null,11707]
[6,"Верхневилюйская",1,1,1,1,1,9,37784,9142]
[7,"Верхнеколымская",1,1,null,null,1,1,7174]
[8,"Верхоянская",1,1,null,null,null,1,37016]
[9,"Вилюйская",1,1,1,1,null,null,26655,442]
[10,"Горная",1,1,1,1,1,1,13600,228]
[11,"Жиганская",1,1,null,null,1,null,14798]
[12,"Кобяйская",1,1,1,1,null,1,25615,137]
[13,"Ленская",1,1,null,null,1,1,30972]
[14,"Момская",null,null,null,null,null,null,2140]
[15,"Намская",1,1,1,1,1,1,30613,115]
[16,"Нижнеколымская",1,null,null,null,null,1,12089]
[17,"Нюрбинская",1,1,null,null,null,null,10894]
[18,"Оймяконская",1,1,null,null,null,null,12055]
[19,"Олекминская",1,1,null,null,null,1,30611]
[20,"Оленекская",1,1,null,null,1,null,8183]
[21,"Среднеколымская",1,1,null,null,null,null,6938]
[22,"Сунтарская",1,1,1,1,1,1,40243,254]
[23,"Таттинская",1,1,1,1,1,1,25363,1777]
[24,"Томпонская",1,1,1,1,1,1,10054,2571]
[25,"Усть-Алданская",1,1,1,1,null,1,16386,1507]
[26,"Усть-Майская",1,1,null,null,null,1,9744]
[27,"Усть-Янская",1,null,null,null,null,null,18635]
[28,"Хангаласская",1,1,1,1,1,1,50450,1992]
[29,"Чурапчинская",1,1,null,null,null,null,16728]
[30,"Мирнинская",1,1,null,null,2,1,36043]
[31,"Нерюнгринская",1,1,1,1,8,4,70500,5044]
[32,"Эвено-Бытантайская",1,1,null,null,null,null,4450]
[33,"Якутская",1,1,null,null,1,13,197875]
[34,"Алданская",1,1,1,1,1,1,88600,8835]
[35,"Мегино-Кангаласская",1,1,null,null,1,null,37116]
[36,"ГБ г.Нерюнгри ",1,1,null,null,1,1,35897]
[37,"Бердигестях ДБ"]
[38,"Б-ка ГО \"п. Жатай\""]
[39,"Алданский БИЦ"]
[40,"Томмотский БИЦ"]
[null,"Итого по МБ",{"$f":"SUM(C10:C49)","v":35},33,14,14,26,43,{"$f":"SUM(I10:I49)","v":1032251},{"$f":"SUM(J10:J47)","v":32255}]
[null,"НБ РС(Я)",1,1,1,1,1,1,818707,117852]
[null,"Филиал НБ \"ДТК\"",1,1,null,null,null,null,42885]
[null,"ЯРСБНС",1,1,1,1,1,1,37407,25052]
[null,"ВСЕГО ",{"$f":"SUM(C50:C53)","v":38},36,16,16,28,45,1931250,175159]

{"sheet":"т.11","index":19,"n_rows":52,"n_cols":10,"rows_kept":52,"cut":false,"hidden":false,"merged":[[0,7,0,8],[5,8,6,8],[3,9,6,9],[1,0,1,6],[2,0,2,6],[3,3,3,4],[4,3,6,3],[4,4,6,4],[3,5,4,6],[5,5,6,5],[5,6,6,6],[5,7,6,7],[3,7,4,8],[3,1,6,1],[3,0,6,0]]}
[null,null,null,null,null,null,null,"Таблица 11"]
["Информационное обслуживание"]
[]
["№","ЦБС","всего","в том числе",null,"выполнено справок и консульт.",null,"число обращений удал. польз. (сайт)",null,"\"+ -\""]
[null,null,"документов","МБА,   ММБА, ЭДД","вирт.    чит.     залы"]
[null,null,"из фондов",null,null,"всего","из них в удал. режиме",2023,2024]
[null,null,"др. б-к"]
[1,"Абыйская ",7,7,null,3326,null,4567,2683,{"$f":"I8-H8","v":-1884}]
[2,"Аллаиховская ",null,null,null,376,null,986,2183,{"$f":"I9-H9","v":1197}]
[3,"Амгинская ",14,null,14,4135,952,33626,56819,23193]
[4,"Анабарская ",null,null,null,4798,null,19,232,213]
[5,"Булунская ",null,null,null,3010,null,2839,3274,435]
[6,"Верхневилюйская",278,38,240,4611,1120,61553,76272,14719]
[7,"Верхнеколымская ",null,null,null,1502,null,24381,2860,-21521]
[8,"Верхоянская ",null,null,null,3210,null,2361,5501,3140]
[9,"Вилюйская ",4877,null,4877,4011,515,43191,55754,12563]
[10,"Горная",3306,3306,null,2060,292,7485,6200,-1285]
[11,"Жиганская ",null,null,null,12518,null,1466,1819,353]
[12,"Кобяйская ",null,null,null,4820,null,26558,15924,-10634]
[13,"Ленская ",931,158,773,9534,203,1881,4507,{"$f":"I20-H20","v":2626}]
[14,"Момская ",null,null,null,1652,null,null,null,{"$f":"I21-H21","v":0}]
[15,"Намская ",957,18,939,2828,73,46144,61970,15826]
[16,"Нижнеколымская ",null,null,null,1267,null,1911,4843,2932]
[17,"Нюрбинская",null,null,null,5768,null,13030,21856,8826]
[18,"Оймяконская ",null,null,null,4221,124,10077,8460,-1617]
[19,"Олекминская ",null,null,null,16113,1610,18027,19170,1143]
[20,"Оленекская ",10,10,null,539,null,5216,5420,204]
[21,"Среднеколымская ",null,null,null,2021,null,null,null,0]
[22,"Сунтарская",117,1,116,6264,null,77108,78090,982]
[23,"Таттинская ",7569,1302,6267,2227,null,140647,179208,38561]
[24,"Томпонская ",26,2,24,19152,207,33243,68862,35619]
[25,"Усть-Алданская",683,null,683,27076,5912,39559,59747,20188]
[26,"Усть-Майская ",936,936,null,3803,null,24532,32119,7587]
[27,"Усть-Янская",121,null,121,3872,506,3003,6563,3560]
[28,"Хангаласская",null,null,null,7034,31,60867,79262,18395]
[29,"Чурапчинская ",null,null,null,4483,1043,17667,51058,33391]
[30,"Мирнинская ",198,null,198,9704,1956,23937,35571,11634]
[31,"Нерюнгринская ",222,null,222,9652,1735,66225,71239,5014]
[32,"Эвено-Бытантай",null,null,null,115,null,1065,900,-165]
[33,"Якутская",152,152,null,71578,8628,481557,590543,108986]
[34,"Алданская",401,null,401,6182,36,282477,319725,37248]
[35,"Мег.-Кангаласская",236,228,8,4103,607,65964,67850,1886]
[36,"ГБ г.Нерюнгри ",null,null,null,7039,null,17787,21217,3430]
[37,"Бердигестях ДБ",null,null,null,102,30,4008,2208,-1800]
[38,"Б-ка ГО \"п. Жатай\"",null,null,null,572,null,1202,1473,271]
[39,"Алданский БИЦ",null,null,null,125,null,1168,871,-297]
[40,"Томмотский БИЦ",null,null,null,479,null,544,1395,851]
[null,"ИТОГО по МБ",{"$f":"SUM(C8:C47)","v":21041},6158,14883,275882,25580,{"$f":"SUM(H8:H47)","v":1647878},2023648,375770]
[null,"НБ РС(Я)",1522,1409,113,11967,9185,1696621,1658961,-37660]
[null,"Филиал НБ \"ДТК\"",null,null,null,245,null,27357,60285,32928]
[null,"ЯРСБНС",60,60,null,2773,250,13507,33464,19957]
[null,"Итого по РС(Я)",{"$f":"SUM(C48:C51)","v":22623},7627,14996,290867,35015,3385363,3776358,390995]